BEGIN:VCALENDAR
VERSION:2.0
PRODID:-//NextFab - ECPv6.15.12.2//NONSGML v1.0//EN
CALSCALE:GREGORIAN
METHOD:PUBLISH
X-ORIGINAL-URL:https://nextfab.com
X-WR-CALDESC:Events for NextFab
REFRESH-INTERVAL;VALUE=DURATION:PT1H
X-Robots-Tag:noindex
X-PUBLISHED-TTL:PT1H
BEGIN:VTIMEZONE
TZID:America/New_York
BEGIN:DAYLIGHT
TZOFFSETFROM:-0500
TZOFFSETTO:-0400
TZNAME:EDT
DTSTART:20160313T070000
END:DAYLIGHT
BEGIN:STANDARD
TZOFFSETFROM:-0400
TZOFFSETTO:-0500
TZNAME:EST
DTSTART:20161106T060000
END:STANDARD
BEGIN:DAYLIGHT
TZOFFSETFROM:-0500
TZOFFSETTO:-0400
TZNAME:EDT
DTSTART:20170312T070000
END:DAYLIGHT
BEGIN:STANDARD
TZOFFSETFROM:-0400
TZOFFSETTO:-0500
TZNAME:EST
DTSTART:20171105T060000
END:STANDARD
BEGIN:DAYLIGHT
TZOFFSETFROM:-0500
TZOFFSETTO:-0400
TZNAME:EDT
DTSTART:20180311T070000
END:DAYLIGHT
BEGIN:STANDARD
TZOFFSETFROM:-0400
TZOFFSETTO:-0500
TZNAME:EST
DTSTART:20181104T060000
END:STANDARD
END:VTIMEZONE
BEGIN:VEVENT
DTSTART;TZID=America/New_York:20170207T100000
DTEND;TZID=America/New_York:20170207T170000
DTSTAMP:20260419T102646
CREATED:20170203T173057Z
LAST-MODIFIED:20170203T173057Z
UID:1414-1486461600-1486486800@nextfab.com
SUMMARY:Intellectual Property Advice from Vadim Cherkasov
DESCRIPTION:Vadim Cherkasov is an intellectual property attorney with a focus on patent and trademark prosecution. Vadim worked as a mechanical engineer prior to his legal practice\, and has experience with patents in a wide range of technologies\, including medical devices\, electrical devices\, biometric-based security systems\, power generation equipment\, agricultural devices\, computer network systems\, and software-based systems. In addition to the preparation and prosecution of patent applications\, he has experience in patentability and freedom-to-operate searches\, and providing opinions based on his findings. Vadim’s clients range from individual inventors to large corporations. \nVadim will be available in our coworking area on Tuesday\, February 7th from 10:am-5:00pm to a free consultation for NextFab members about intellectual property.
URL:https://nextfab.com/event/intellectual-property-advice-from-vadim-cherkasov/
CATEGORIES:Guest Speaker
END:VEVENT
BEGIN:VEVENT
DTSTART;TZID=America/New_York:20170207T180000
DTEND;TZID=America/New_York:20170207T200000
DTSTAMP:20260419T102646
CREATED:20170131T221123Z
LAST-MODIFIED:20170131T221123Z
UID:1292-1486490400-1486497600@nextfab.com
SUMMARY:12 Month Maker Challenge Kickoff
DESCRIPTION:This year we’re challenging you to complete one project per month. \nHow to be involved in this challenge: \nPost your project to the 12 Month Maker Challenge Forum by the last day of each month. We will send out reminders and progress pictures throughout the month to keep everyone on track! \nCome to the quarterly meetups to share your projects and ideas. \nThe kickoff meetup will be on Tuesday\, February 7th from 6 – 8 pm to share ideas for projects for the upcoming year.
URL:https://nextfab.com/event/12-month-maker-challenge-kickoff/
CATEGORIES:Community Meetup
END:VEVENT
BEGIN:VEVENT
DTSTART;TZID=America/New_York:20170208T180000
DTEND;TZID=America/New_York:20170208T200000
DTSTAMP:20260419T102646
CREATED:20170203T150209Z
LAST-MODIFIED:20170203T150209Z
UID:1408-1486576800-1486584000@nextfab.com
SUMMARY:Electro-Makers Meetup
DESCRIPTION:https://www.meetup.com/Philly-Makers/events/237025118/?rv=me2&_af=event&_af_eid=237025118&https=on
URL:https://nextfab.com/event/electro-makers-meetup/
CATEGORIES:Community Meetup
ATTACH;FMTTYPE=image/jpeg:https://nextfab.com/wp-content/uploads/2016/10/13700198255_6cf81c9913_o-scaled.jpg
END:VEVENT
BEGIN:VEVENT
DTSTART;TZID=America/New_York:20170210T103000
DTEND;TZID=America/New_York:20170210T173000
DTSTAMP:20260419T102646
CREATED:20170131T221548Z
LAST-MODIFIED:20170131T221548Z
UID:1294-1486722600-1486747800@nextfab.com
SUMMARY:Patent Advice from Scott Keeley
DESCRIPTION:Scott Keeley is a registered patent agent with 12 years of experience in intellectual property. He has engineered products from guitars to wind turbines\, with “green” energy powering much of his innovative output. His early career of 18 years centered on industrial design in the United States and Europe. He taught industrial design at Kansas City Art Institute and has a Master’s in Industrial Design. \nScott will be available in our coworking area on Friday\, February 10th from 10:30am-5:30pm to a free consultation for NextFab members about getting products patented.
URL:https://nextfab.com/event/patent-advice-from-scott-keeley/
CATEGORIES:Guest Speaker
END:VEVENT
BEGIN:VEVENT
DTSTART;TZID=America/New_York:20170217T180000
DTEND;TZID=America/New_York:20170217T200000
DTSTAMP:20260419T102646
CREATED:20170131T221715Z
LAST-MODIFIED:20170131T221715Z
UID:1296-1487354400-1487361600@nextfab.com
SUMMARY:February Maker Happy Hour
DESCRIPTION:Join NextFab for an early evening happy hour. Spend some time getting to know our members and staff while enjoying some of Yards Brewery’s finest. \nNo agenda\, just come chill and enjoy some time hanging out in our comfortable coworking area! From 6-8pm at 2025 Washington Ave.
URL:https://nextfab.com/event/february-maker-happy-hour/
CATEGORIES:Community Meetup
END:VEVENT
BEGIN:VEVENT
DTSTART;TZID=America/New_York:20170222T180000
DTEND;TZID=America/New_York:20170222T200000
DTSTAMP:20260419T102646
CREATED:20170220T182616Z
LAST-MODIFIED:20170220T182616Z
UID:1662-1487786400-1487793600@nextfab.com
SUMMARY:Electro-Makers Meetup
DESCRIPTION:https://www.meetup.com/Philly-Makers/events/237556607/
URL:https://nextfab.com/event/electro-makers-meetup-2/
CATEGORIES:Community Meetup
END:VEVENT
BEGIN:VEVENT
DTSTART;TZID=America/New_York:20170223T180000
DTEND;TZID=America/New_York:20170223T200000
DTSTAMP:20260419T102646
CREATED:20170130T150857Z
LAST-MODIFIED:20170130T150857Z
UID:1002-1487872800-1487880000@nextfab.com
SUMMARY:An Inventor's Journey: a Night with Ira Tiffen
DESCRIPTION:Join us for a special event with guest speaker Ira Tiffen.\nAs an inventor\, designer and thought leader in the area of optical glass\, Tiffen’s work and vision have been critical to the evolution of cinematic aesthetics and technical processes. As one of the foremost optical glass designers in the world\, Tiffen has applied his expertise to fields as diverse as aerospace\, architecture\, holography\, computers and motion picture and still photography (earning him an Academy Award for technical achievement along the way). \n \nTiffen and hosts Anders Uhl and Laate Olukotun will delve into his design practice\, focusing on concept and product viability and the fine line between success and failure in new concept development.
URL:https://nextfab.com/event/an-inventors-journey-a-night-with-ira-tiffen/
CATEGORIES:Guest Speaker
ATTACH;FMTTYPE=image/jpeg:https://nextfab.com/wp-content/uploads/2017/01/Ira-Tiffen-2a.jpeg
END:VEVENT
END:VCALENDAR