BEGIN:VCALENDAR
VERSION:2.0
PRODID:-//NextFab - ECPv6.15.20//NONSGML v1.0//EN
CALSCALE:GREGORIAN
METHOD:PUBLISH
X-WR-CALNAME:NextFab
X-ORIGINAL-URL:https://nextfab.com
X-WR-CALDESC:Events for NextFab
REFRESH-INTERVAL;VALUE=DURATION:PT1H
X-Robots-Tag:noindex
X-PUBLISHED-TTL:PT1H
BEGIN:VTIMEZONE
TZID:America/New_York
BEGIN:DAYLIGHT
TZOFFSETFROM:-0500
TZOFFSETTO:-0400
TZNAME:EDT
DTSTART:20160313T070000
END:DAYLIGHT
BEGIN:STANDARD
TZOFFSETFROM:-0400
TZOFFSETTO:-0500
TZNAME:EST
DTSTART:20161106T060000
END:STANDARD
BEGIN:DAYLIGHT
TZOFFSETFROM:-0500
TZOFFSETTO:-0400
TZNAME:EDT
DTSTART:20170312T070000
END:DAYLIGHT
BEGIN:STANDARD
TZOFFSETFROM:-0400
TZOFFSETTO:-0500
TZNAME:EST
DTSTART:20171105T060000
END:STANDARD
BEGIN:DAYLIGHT
TZOFFSETFROM:-0500
TZOFFSETTO:-0400
TZNAME:EDT
DTSTART:20180311T070000
END:DAYLIGHT
BEGIN:STANDARD
TZOFFSETFROM:-0400
TZOFFSETTO:-0500
TZNAME:EST
DTSTART:20181104T060000
END:STANDARD
END:VTIMEZONE
BEGIN:VEVENT
DTSTART;TZID=America/New_York:20170601T140000
DTEND;TZID=America/New_York:20170601T150000
DTSTAMP:20260423T202736
CREATED:20170420T200930Z
LAST-MODIFIED:20170420T200930Z
UID:2130-1496325600-1496329200@nextfab.com
SUMMARY:Dreamit Open Learning: The Art of Closing a Round
DESCRIPTION:Dreamit invites you to join us as they present their curriculum in the form of weekly Live Sessions. Over the course of 7 weeks a Dreamit team member will speak on topics including pitching investors and getting great customer feedback. \nWeek 7: The Art of Closing a Round – Learn critical tips and tricks to successfully close your round including how to understand the different types of investors. \nDreamit’s goal is to give extraordinary teams access to the resources they need to create exceptional companies. \nREGISTER
URL:https://nextfab.com/event/dreamit-open-learning-the-art-of-closing-a-round/
LOCATION:NextFab\, 1800 N. American St.\, Philadelphia\, PA\, 19122\, United States
CATEGORIES:Expert Advice,Guest Speaker
ATTACH;FMTTYPE=image/jpeg:https://nextfab.com/wp-content/uploads/2017/04/https-2F2Fcdn.evbuc_.com2Fimages2F291506782F552634843032F12Foriginal.jpg
END:VEVENT
BEGIN:VEVENT
DTSTART;TZID=America/New_York:20170606T110000
DTEND;TZID=America/New_York:20170606T160000
DTSTAMP:20260423T202736
CREATED:20170520T000019Z
LAST-MODIFIED:20170520T000019Z
UID:2366-1496746800-1496764800@nextfab.com
SUMMARY:Intellectual Property Advice
DESCRIPTION:Vadim Cherkasov is an intellectual property attorney with a focus on patent and trademark prosecution. Vadim worked as a mechanical engineer prior to his legal practice\, and has experience with patents in a wide range of technologies\, including medical devices\, electrical devices\, biometric-based security systems\, power generation equipment\, agricultural devices\, computer network systems\, and software-based systems. In addition to the preparation and prosecution of patent applications\, he has experience in patentability and freedom-to-operate searches\, and providing opinions based on his findings. Vadim’s clients range from individual inventors to large corporations. \nVadim will be available in our coworking area on June 6th from 11:00AM-4:00PM for free\, drop-in consultations about intellectual property for NextFab members.
URL:https://nextfab.com/event/intellectual-property-advice-3/
CATEGORIES:Expert Advice
ATTACH;FMTTYPE=image/jpeg:https://nextfab.com/wp-content/uploads/2017/02/Daimler_Reitwagen_color_drawing_1885_DE_patent_36423.jpg
END:VEVENT
BEGIN:VEVENT
DTSTART;TZID=America/New_York:20170608T110000
DTEND;TZID=America/New_York:20170608T180000
DTSTAMP:20260423T202736
CREATED:20170601T145648Z
LAST-MODIFIED:20170601T145648Z
UID:2411-1496919600-1496944800@nextfab.com
SUMMARY:Patent Agent Office Hours
DESCRIPTION:Scott Keeley will be hosting Open Office Hours in our coworking space at 2025 Washington Ave and will be available for free legal consultations for members of our community. \nScott is a registered patent agent with 12 years of experience in intellectual property. He has engineered products from guitars to wind turbines\, with “green” energy powering much of his innovative output. His early career of 18 years centered on industrial design in the United States and Europe. He taught industrial design at Kansas City Art Institute and has a Master’s in Industrial Design.
URL:https://nextfab.com/event/patent-agent-office-hours/
CATEGORIES:Expert Advice
ATTACH;FMTTYPE=image/jpeg:https://nextfab.com/wp-content/uploads/2017/03/8639499425_13dd3137ba_o.jpg
END:VEVENT
BEGIN:VEVENT
DTSTART;TZID=America/New_York:20170608T180000
DTEND;TZID=America/New_York:20170608T200000
DTSTAMP:20260423T202736
CREATED:20170515T200644Z
LAST-MODIFIED:20170515T200644Z
UID:2330-1496944800-1496952000@nextfab.com
SUMMARY:Kickstarter Presents: Crowdfunding for Makers and Designers
DESCRIPTION:Are you working on your next project? Whether it’s a new startup or an innocent side hustle\, there’s a lot to consider as you prepare for launch. So why not hear from the experts who have mastered the process?\n\nKickstarter offers designers\, makers\, and engineers a unique opportunity to connect with an audience\, and raise funds to bring a project to life. Join us to hear from Zach Dunham\, Kickstarter’s Design and Technology Outreach Lead\, about the various approaches to using the platform\, as well as best practices for crafting a great campaign and building community on Kickstarter.\n\n\nZach Dunham is Kickstarter’s design and technology communities outreach lead. Based out of NYC\, he helps creators across these two diverse categories to launch their projects\, and find their voice on Kickstarter. Zach is also a creative technologist with a focus on acoustics and music; the co-creator of The Public Radio; and an alumni of the School For Poetic Computation
URL:https://nextfab.com/event/kickstarter-makers-designers/
CATEGORIES:Community Meetup,Expert Advice
ATTACH;FMTTYPE=image/jpeg:https://nextfab.com/wp-content/uploads/2017/05/startup-photos-scaled.jpg
END:VEVENT
BEGIN:VEVENT
DTSTART;TZID=America/New_York:20170613T100000
DTEND;TZID=America/New_York:20170613T160000
DTSTAMP:20260423T202736
CREATED:20170524T193800Z
LAST-MODIFIED:20170524T193800Z
UID:2385-1497348000-1497369600@nextfab.com
SUMMARY:Ask the Expert: Ben Franklin Tech Partners
DESCRIPTION:Mark Trabbold\, Director of Business Development\, Technology Commercialization Group at Ben Franklin Tech Partners\, will be hosting open office hours at NextFab to answer questions about BFTP from our community. \nMark Trabbold\, Director of Business Development\, Technology Commercialization Group at Ben Franklin Tech Partners\nFor more than 31 years\, Ben Franklin Tech Partners (BFTP) has provided both early-stage\, technology-based firms and established manufacturers with funding\, business and technical expertise\, and access to a network of innovative\, expert resources. \nMark has 30 years of experience in innovation\, process engineering and construction. Prior to joining Ben Franklin\, Mark was Vice President\, R&D\, Insulation Group\, CertainTeed Corporation\, a North American building materials manufacturing company\, where he was responsible for R&D and new business development. He also held prior Technical Management and Product Development positions at CertainTeed. Mark holds a B.S. in Chemistry from Eastern University. \nMark will be available for drop-in consultations in our coworking area from 10am- 4pm.
URL:https://nextfab.com/event/ask-expert-ben-franklin-tech-partners/
CATEGORIES:Expert Advice
ATTACH;FMTTYPE=image/jpeg:https://nextfab.com/wp-content/uploads/2017/03/file-1660605308-jpg.jpg
END:VEVENT
END:VCALENDAR