BEGIN:VCALENDAR
VERSION:2.0
PRODID:-//NextFab - ECPv6.15.20//NONSGML v1.0//EN
CALSCALE:GREGORIAN
METHOD:PUBLISH
X-ORIGINAL-URL:https://nextfab.com
X-WR-CALDESC:Events for NextFab
REFRESH-INTERVAL;VALUE=DURATION:PT1H
X-Robots-Tag:noindex
X-PUBLISHED-TTL:PT1H
BEGIN:VTIMEZONE
TZID:America/New_York
BEGIN:DAYLIGHT
TZOFFSETFROM:-0500
TZOFFSETTO:-0400
TZNAME:EDT
DTSTART:20160313T070000
END:DAYLIGHT
BEGIN:STANDARD
TZOFFSETFROM:-0400
TZOFFSETTO:-0500
TZNAME:EST
DTSTART:20161106T060000
END:STANDARD
BEGIN:DAYLIGHT
TZOFFSETFROM:-0500
TZOFFSETTO:-0400
TZNAME:EDT
DTSTART:20170312T070000
END:DAYLIGHT
BEGIN:STANDARD
TZOFFSETFROM:-0400
TZOFFSETTO:-0500
TZNAME:EST
DTSTART:20171105T060000
END:STANDARD
BEGIN:DAYLIGHT
TZOFFSETFROM:-0500
TZOFFSETTO:-0400
TZNAME:EDT
DTSTART:20180311T070000
END:DAYLIGHT
BEGIN:STANDARD
TZOFFSETFROM:-0400
TZOFFSETTO:-0500
TZNAME:EST
DTSTART:20181104T060000
END:STANDARD
END:VTIMEZONE
BEGIN:VEVENT
DTSTART;TZID=America/New_York:20170803T100000
DTEND;TZID=America/New_York:20170803T170000
DTSTAMP:20260423T172513
CREATED:20170619T205926Z
LAST-MODIFIED:20170619T205926Z
UID:2546-1501754400-1501779600@nextfab.com
SUMMARY:Intellectual Property Advice
DESCRIPTION:Vadim Cherkasov is an intellectual property attorney with a focus on patent and trademark prosecution. Vadim worked as a mechanical engineer prior to his legal practice\, and has experience with patents in a wide range of technologies\, including medical devices\, electrical devices\, biometric-based security systems\, power generation equipment\, agricultural devices\, computer network systems\, and software-based systems. In addition to the preparation and prosecution of patent applications\, he has experience in patentability and freedom-to-operate searches\, and providing opinions based on his findings. Vadim’s clients range from individual inventors to large corporations. \nVadim will be available in our coworking area on August 3rd from 10:00AM-5:00PM for free\, drop-in consultations about intellectual property for NextFab members.
URL:https://nextfab.com/event/intellectual-property-advice-5/
CATEGORIES:Expert Advice
ATTACH;FMTTYPE=image/jpeg:https://nextfab.com/wp-content/uploads/2017/02/Daimler_Reitwagen_color_drawing_1885_DE_patent_36423.jpg
END:VEVENT
BEGIN:VEVENT
DTSTART;TZID=America/New_York:20170804T150000
DTEND;TZID=America/New_York:20170804T160000
DTSTAMP:20260423T172513
CREATED:20170717T181241Z
LAST-MODIFIED:20170717T181241Z
UID:2786-1501858800-1501862400@nextfab.com
SUMMARY:Project Advice with NextFab Contract Services Manager
DESCRIPTION:Sometimes the hardest part about a project is knowing where to start. Other times you hit a roadblock and aren’t sure what to do next. If you find yourself in that situation\, this session is for you. Matt Bell runs NextFab’s Contract Services division and has a deep understanding of the incredible things that can be done using our tools\, training\, and expertise.\n\nMatt will be available in the South Philly coworking area every Friday from 3:00pm-4:00pm for free consultations for NextFab members.\n\nSchedule a 15-minute session here or just drop in.
URL:https://nextfab.com/event/project-advice-nextfab-contract-services-manager-3/
CATEGORIES:Expert Advice
ATTACH;FMTTYPE=image/jpeg:https://nextfab.com/wp-content/uploads/2017/03/8639499425_13dd3137ba_o.jpg
END:VEVENT
BEGIN:VEVENT
DTSTART;TZID=America/New_York:20170810T183000
DTEND;TZID=America/New_York:20170810T203000
DTSTAMP:20260423T172513
CREATED:20170724T185434Z
LAST-MODIFIED:20170724T185434Z
UID:2727-1502389800-1502397000@nextfab.com
SUMMARY:From Making to Selling: A Panel Discussion on Getting into Galleries
DESCRIPTION:Join us for the third event in a series of panel discussions designed to support local artists and entrepreneurs. This time we’ll explore what galleries and exhibit spaces are looking for in a body of work. You’ll have the opportunity to discuss ways to make your work more noticeable and get advice on how to make a marketable portfolio for the right gallery. Get the inside scoop from gallery owners and discover ways to get your work out there! \nJoin our four panelists:  \nLisa Brown @ CFEVA\nAlbert LeCoff @ Center for Art in Wood\nPaige Fetchen @ Little Berlin & Fabric Museum\nAdam Mazur @ Philly Magic Gardens \nEvent Timeline: \n6:30 – 7:00 Doors / Refreshments / Seating\n7:00 – 7:10 Introductions\n7:10 – 8:10 Panel Discussion\n8:10 – 8:30 Q&A \n\nLearn from the successes of others and put your best foot forward at your next sales opportunity! Reserve your seat for this event below.
URL:https://nextfab.com/event/making-selling-panel-discussion-3/
LOCATION:NextFab\, 1800 N. American St.\, Philadelphia\, PA\, 19122\, United States
CATEGORIES:Expert Advice,Guest Speaker
ATTACH;FMTTYPE=image/jpeg:https://nextfab.com/wp-content/uploads/2017/04/IMG_2760-scaled.jpg
END:VEVENT
BEGIN:VEVENT
DTSTART;TZID=America/New_York:20170811T150000
DTEND;TZID=America/New_York:20170811T160000
DTSTAMP:20260423T172513
CREATED:20170717T181438Z
LAST-MODIFIED:20170717T181438Z
UID:2788-1502463600-1502467200@nextfab.com
SUMMARY:Project Advice with NextFab Contract Services Manager
DESCRIPTION:Sometimes the hardest part about a project is knowing where to start. Other times you hit a roadblock and aren’t sure what to do next. If you find yourself in that situation\, this session is for you. Matt Bell runs NextFab’s Contract Services division and has a deep understanding of the incredible things that can be done using our tools\, training\, and expertise.\n\nMatt will be available in the South Philly coworking area every Friday from 3:00pm-4:00pm for free consultations for NextFab members.\n\nSchedule a 15-minute session here or just drop in.
URL:https://nextfab.com/event/project-advice-nextfab-contract-services-manager-4/
CATEGORIES:Expert Advice
ATTACH;FMTTYPE=image/jpeg:https://nextfab.com/wp-content/uploads/2017/03/8639499425_13dd3137ba_o.jpg
END:VEVENT
BEGIN:VEVENT
DTSTART;TZID=America/New_York:20170816T100000
DTEND;TZID=America/New_York:20170816T170000
DTSTAMP:20260423T172513
CREATED:20170727T150951Z
LAST-MODIFIED:20170727T150951Z
UID:2846-1502877600-1502902800@nextfab.com
SUMMARY:Free Legal Advice for Startups and Makers
DESCRIPTION:Ku Yoo\, partner at Chang & Yoo LLP\, represents businesses\, investors\, high net-worth individuals\, investment vehicles\, and funds in various industries including startup\, biotech\, software\, and real estate\, in addition to electronics manufacturers and suppliers and services in hospitality and construction. Ku is passionate about helping business people do business; beginning with business formation and incorporation\, working through the growth of the business\, dealing with acquisitions and sales\, and finally helping with its exit strategies. He advises clients with issues arising from day-to-day operations of the business to major transactions including sale\, acquisition\, or other changes and restructures\, as well as foreign companies doing business in the United States. \nKu will be available in our coworking area on August 16th from 10:00AM-5:00PM for free\, drop-in legal consultations for NextFab members. \n \nKu Yoo 
URL:https://nextfab.com/event/free-legal-advice-startups-makers/
CATEGORIES:Expert Advice
ATTACH;FMTTYPE=image/jpeg:https://nextfab.com/wp-content/uploads/2017/03/8639499425_13dd3137ba_o.jpg
END:VEVENT
BEGIN:VEVENT
DTSTART;TZID=America/New_York:20170818T150000
DTEND;TZID=America/New_York:20170818T160000
DTSTAMP:20260423T172513
CREATED:20170717T181617Z
LAST-MODIFIED:20170717T181617Z
UID:2790-1503068400-1503072000@nextfab.com
SUMMARY:Project Advice with NextFab Contract Services Manager
DESCRIPTION:Sometimes the hardest part about a project is knowing where to start. Other times you hit a roadblock and aren’t sure what to do next. If you find yourself in that situation\, this session is for you. Matt Bell runs NextFab’s Contract Services division and has a deep understanding of the incredible things that can be done using our tools\, training\, and expertise.\n\nMatt will be available in the South Philly coworking area every Friday from 3:00pm-4:00pm for free consultations for NextFab members.\n\nSchedule a 15-minute session here or just drop in.
URL:https://nextfab.com/event/project-advice-nextfab-contract-services-manager-5/
CATEGORIES:Expert Advice
ATTACH;FMTTYPE=image/jpeg:https://nextfab.com/wp-content/uploads/2017/03/8639499425_13dd3137ba_o.jpg
END:VEVENT
BEGIN:VEVENT
DTSTART;TZID=America/New_York:20170819T110000
DTEND;TZID=America/New_York:20170819T180000
DTSTAMP:20260423T172513
CREATED:20170720T200648Z
LAST-MODIFIED:20170720T200648Z
UID:2805-1503140400-1503165600@nextfab.com
SUMMARY:Patent Agent Office Hours
DESCRIPTION:Scott Keeley will be hosting Open Office Hours in our coworking space at 2025 Washington Ave and will be available for free legal consultations for NextFab members. \nScott is a registered patent agent with 12 years of experience in intellectual property. He has engineered products from guitars to wind turbines\, with “green” energy powering much of his innovative output. His early career of 18 years centered on industrial design in the United States and Europe. He taught industrial design at Kansas City Art Institute and has a Master’s in Industrial Design.
URL:https://nextfab.com/event/patent-agent-office-hours-3/
CATEGORIES:Expert Advice
ATTACH;FMTTYPE=image/jpeg:https://nextfab.com/wp-content/uploads/2017/03/8639499425_13dd3137ba_o.jpg
END:VEVENT
BEGIN:VEVENT
DTSTART;TZID=America/New_York:20170824T180000
DTEND;TZID=America/New_York:20170824T200000
DTSTAMP:20260423T172513
CREATED:20170804T194714Z
LAST-MODIFIED:20170804T194714Z
UID:2904-1503597600-1503604800@nextfab.com
SUMMARY:Entrepreneurs' Guide to the Legal World
DESCRIPTION:For entrepreneurs and businesses\, choices come quickly. Often the first choice is to decide how to protect your business\, ideas\, and yourself by establishing a legal entity and building an intellectual property portfolio. Even for an ongoing business\, it may still be advantageous to reconsider initial choices. \nThe Hidden Factors of Choosing a Business Entity \nKu Yoo\, partner at Chang & Yoo LLP\, represents businesses\, investors\, high net-worth individuals\, investment vehicles\, and funds in various industries including startup\, biotech\, software\, and real estate\, in addition to electronics manufacturers and suppliers and services in hospitality and construction. In this presentation\, Ku will explain many of the critical (and hidden) factors that entrepreneurs and businesses should consider in making your choice of entities. Entity topics include the pros and cons of entity choices\, your exit strategy and what it means\, investor preferences\, tax implications\, and common tactics to protect your business assets. \nThe Steps to Protecting Your Intellectual Property \nVadim Cherkasov is an intellectual property attorney with a focus on patent and trademark prosecution. He worked as a mechanical engineer prior to his legal practice\, and has experience with patents in a wide range of technologies\, including medical devices\, electrical devices\, biometric-based security systems\, power generation equipment\, agricultural devices\, computer network systems\, and software-based systems. Vadim will explain the steps available to entrepreneurs and businesses to protect their intellectual property. Intellectual property topics include the choice between different forms of intellectual property (patents\, trademarks\, copyrights\, and trade secrets)\, strategy and requirements for each form of protection\, and potential pitfalls to consider. \n\nLet us know if you can attend this event.
URL:https://nextfab.com/event/entrepreneurs-guide-legal-world/
CATEGORIES:Expert Advice
ATTACH;FMTTYPE=image/jpeg:https://nextfab.com/wp-content/uploads/2017/08/rgatechstarsnextfab-18_15227490145_o-scaled.jpg
END:VEVENT
BEGIN:VEVENT
DTSTART;TZID=America/New_York:20170825T100000
DTEND;TZID=America/New_York:20170825T153000
DTSTAMP:20260423T172513
CREATED:20170815T144019Z
LAST-MODIFIED:20170815T144019Z
UID:2929-1503655200-1503675000@nextfab.com
SUMMARY:Intellectual Property Advice at NextFab North Philly
DESCRIPTION:Vadim Cherkasov is an intellectual property attorney with a focus on patent and trademark prosecution. Vadim worked as a mechanical engineer prior to his legal practice\, and has experience with patents in a wide range of technologies\, including medical devices\, electrical devices\, biometric-based security systems\, power generation equipment\, agricultural devices\, computer network systems\, and software-based systems. In addition to the preparation and prosecution of patent applications\, he has experience in patentability and freedom-to-operate searches\, and providing opinions based on his findings. Vadim’s clients range from individual inventors to large corporations. \nVadim will be available in our North Philly conference room on August 25th from 10:00AM-4:00PM for free\, drop-in consultations about intellectual property for NextFab members.
URL:https://nextfab.com/event/intellectual-property-advice-nextfab-north-philly/
LOCATION:NextFab\, 1800 N. American St.\, Philadelphia\, PA\, 19122\, United States
CATEGORIES:Expert Advice
ATTACH;FMTTYPE=image/jpeg:https://nextfab.com/wp-content/uploads/2017/02/Daimler_Reitwagen_color_drawing_1885_DE_patent_36423.jpg
END:VEVENT
BEGIN:VEVENT
DTSTART;TZID=America/New_York:20170826T130000
DTEND;TZID=America/New_York:20170826T150000
DTSTAMP:20260423T172513
CREATED:20170725T183229Z
LAST-MODIFIED:20170725T183229Z
UID:2830-1503752400-1503759600@nextfab.com
SUMMARY:Intellectual Property Advice at NextFab Wilmington
DESCRIPTION:Dr. Janet Reed is the head of the intellectual property transactional and counseling practice at Potter Anderson Corroon LLP. Janet has extensive experience in domestic and foreign patent prosecution\, patent portfolio management and strategic planning\, evaluation of new technology\, drafting of license and other commercialization agreements\, conducting and responding to due diligence inquiries\, and preparation of opinions on patentability\, infringement and freedom to operate. \nIn addition to her law degree\, Janet holds a PhD in biochemistry and a Master’s degree in plant pathology. Prior to entering patent law\, Janet accumulated ten years of laboratory experience in biochemistry\, molecular biology and plant physiology/pathology\, in graduate-level research and as a visiting postdoctoral research scientist at DuPont. \nJanet will be available at our Wilmington facility on August 26th from 1:00PM-3:00PM for free\, drop-in consultations about intellectual property for NextFab members. \n \nDr. Janet Reed
URL:https://nextfab.com/event/intellectual-property-advice-nextfab-wilmington-2/
LOCATION:Downtown Wilmington\, 503 N. Tatnall Street\, Wilmington\, DE\, 19801\, United States
CATEGORIES:Expert Advice
ATTACH;FMTTYPE=image/jpeg:https://nextfab.com/wp-content/uploads/2016/12/503-N-Tatnall-St20-scaled.jpg
END:VEVENT
END:VCALENDAR