BEGIN:VCALENDAR
VERSION:2.0
PRODID:-//NextFab - ECPv6.15.20//NONSGML v1.0//EN
CALSCALE:GREGORIAN
METHOD:PUBLISH
X-ORIGINAL-URL:https://nextfab.com
X-WR-CALDESC:Events for NextFab
REFRESH-INTERVAL;VALUE=DURATION:PT1H
X-Robots-Tag:noindex
X-PUBLISHED-TTL:PT1H
BEGIN:VTIMEZONE
TZID:America/New_York
BEGIN:DAYLIGHT
TZOFFSETFROM:-0500
TZOFFSETTO:-0400
TZNAME:EDT
DTSTART:20160313T070000
END:DAYLIGHT
BEGIN:STANDARD
TZOFFSETFROM:-0400
TZOFFSETTO:-0500
TZNAME:EST
DTSTART:20161106T060000
END:STANDARD
BEGIN:DAYLIGHT
TZOFFSETFROM:-0500
TZOFFSETTO:-0400
TZNAME:EDT
DTSTART:20170312T070000
END:DAYLIGHT
BEGIN:STANDARD
TZOFFSETFROM:-0400
TZOFFSETTO:-0500
TZNAME:EST
DTSTART:20171105T060000
END:STANDARD
BEGIN:DAYLIGHT
TZOFFSETFROM:-0500
TZOFFSETTO:-0400
TZNAME:EDT
DTSTART:20180311T070000
END:DAYLIGHT
BEGIN:STANDARD
TZOFFSETFROM:-0400
TZOFFSETTO:-0500
TZNAME:EST
DTSTART:20181104T060000
END:STANDARD
END:VTIMEZONE
BEGIN:VEVENT
DTSTART;TZID=America/New_York:20171201T150000
DTEND;TZID=America/New_York:20171201T160000
DTSTAMP:20260423T112224
CREATED:20171115T202849Z
LAST-MODIFIED:20171115T202849Z
UID:3566-1512140400-1512144000@nextfab.com
SUMMARY:Project Advice with Matt Bell
DESCRIPTION:Sometimes the hardest part about a project is knowing where to start. Other times you hit a roadblock and aren’t sure what to do next. If you find yourself in that situation\, this session is for you. Matt Bell runs NextFab’s Contract Services division and has a deep understanding of the incredible things that can be done using our tools\, training\, and expertise. \nMatt will be available in the South Philly coworking area every Friday from 3:00pm-4:00pm for free consultations for NextFab members. \nSchedule a 15-minute session here or just drop in.
URL:https://nextfab.com/event/project-advice-matt-bell-8/
CATEGORIES:Expert Advice
ATTACH;FMTTYPE=image/jpeg:https://nextfab.com/wp-content/uploads/2017/03/8639499425_13dd3137ba_o.jpg
END:VEVENT
BEGIN:VEVENT
DTSTART;TZID=America/New_York:20171205T100000
DTEND;TZID=America/New_York:20171205T170000
DTSTAMP:20260423T112224
CREATED:20171010T215801Z
LAST-MODIFIED:20171010T215801Z
UID:3375-1512468000-1512493200@nextfab.com
SUMMARY:Intellectual Property Advice at South Philly
DESCRIPTION:Vadim Cherkasov is an intellectual property attorney with a focus on patent and trademark prosecution. Vadim worked as a mechanical engineer prior to his legal practice\, and has experience with patents in a wide range of technologies\, including medical devices\, electrical devices\, biometric-based security systems\, power generation equipment\, agricultural devices\, computer network systems\, and software-based systems. In addition to the preparation and prosecution of patent applications\, he has experience in patentability and freedom-to-operate searches\, and providing opinions based on his findings. Vadim’s clients range from individual inventors to large corporations. \nVadim will be available in our coworking area on December 5th from 10:00AM-5:00PM for free\, drop-in consultations about intellectual property for NextFab members.
URL:https://nextfab.com/event/intellectual-property-advice-south-philly-2/
CATEGORIES:Expert Advice
ATTACH;FMTTYPE=image/jpeg:https://nextfab.com/wp-content/uploads/2017/02/Daimler_Reitwagen_color_drawing_1885_DE_patent_36423.jpg
END:VEVENT
BEGIN:VEVENT
DTSTART;TZID=America/New_York:20171208T150000
DTEND;TZID=America/New_York:20171208T160000
DTSTAMP:20260423T112224
CREATED:20171115T200923Z
LAST-MODIFIED:20171115T200923Z
UID:3561-1512745200-1512748800@nextfab.com
SUMMARY:Project Advice with Matt Bell
DESCRIPTION:Sometimes the hardest part about a project is knowing where to start. Other times you hit a roadblock and aren’t sure what to do next. If you find yourself in that situation\, this session is for you. Matt Bell runs NextFab’s Contract Services division and has a deep understanding of the incredible things that can be done using our tools\, training\, and expertise. \nMatt will be available in the South Philly coworking area every Friday from 3:00pm-4:00pm for free consultations for NextFab members. \nSchedule a 15-minute session here or just drop in.
URL:https://nextfab.com/event/project-advice-matt-bell-7/
CATEGORIES:Expert Advice
ATTACH;FMTTYPE=image/jpeg:https://nextfab.com/wp-content/uploads/2017/03/8639499425_13dd3137ba_o.jpg
END:VEVENT
BEGIN:VEVENT
DTSTART;TZID=America/New_York:20171213T120000
DTEND;TZID=America/New_York:20171213T180000
DTSTAMP:20260423T112224
CREATED:20171129T200808Z
LAST-MODIFIED:20171129T200808Z
UID:3655-1513166400-1513188000@nextfab.com
SUMMARY:Free Legal Advice for Startups and Makers
DESCRIPTION:Ku Yoo\, partner at Chang & Yoo LLP\, represents businesses\, investors\, high net-worth individuals\, investment vehicles\, and funds in various industries including startup\, biotech\, software\, and real estate\, in addition to electronics manufacturers and suppliers and services in hospitality and construction. Ku is passionate about helping business people do business; beginning with business formation and incorporation\, working through the growth of the business\, dealing with acquisitions and sales\, and finally helping with its exit strategies. He advises clients with issues arising from day-to-day operations of the business to major transactions including sale\, acquisition\, or other changes and restructures\, as well as foreign companies doing business in the United States. \nKu will be available in our coworking area on November 15th from 12:00PM-6:00PM for free\, drop-in legal consultations for NextFab members. \n \nKu Yoo
URL:https://nextfab.com/event/free-legal-advice-startups-makers-5/
CATEGORIES:Expert Advice
ATTACH;FMTTYPE=image/jpeg:https://nextfab.com/wp-content/uploads/2017/03/8639499425_13dd3137ba_o.jpg
END:VEVENT
BEGIN:VEVENT
DTSTART;TZID=America/New_York:20171215T150000
DTEND;TZID=America/New_York:20171215T160000
DTSTAMP:20260423T112224
CREATED:20171212T204326Z
LAST-MODIFIED:20171212T204326Z
UID:3786-1513350000-1513353600@nextfab.com
SUMMARY:Project Advice with Matt Bell
DESCRIPTION:Sometimes the hardest part about a project is knowing where to start. Other times you hit a roadblock and aren’t sure what to do next. If you find yourself in that situation\, this session is for you. Matt Bell runs NextFab’s Contract Services division and has a deep understanding of the incredible things that can be done using our tools\, training\, and expertise. \nMatt will be available in the South Philly coworking area every Friday from 3:00pm-4:00pm for free consultations for NextFab members. \nSchedule a 15-minute session here or just drop in.
URL:https://nextfab.com/event/project-advice-matt-bell-9/
CATEGORIES:Expert Advice
ATTACH;FMTTYPE=image/jpeg:https://nextfab.com/wp-content/uploads/2017/03/8639499425_13dd3137ba_o.jpg
END:VEVENT
BEGIN:VEVENT
DTSTART;TZID=America/New_York:20171219T100000
DTEND;TZID=America/New_York:20171219T160000
DTSTAMP:20260423T112224
CREATED:20171016T160149Z
LAST-MODIFIED:20171016T160149Z
UID:3399-1513677600-1513699200@nextfab.com
SUMMARY:Ask the Expert: Ben Franklin Tech Partners
DESCRIPTION:Mark Trabbold\, Director of Business Development\, Technology Commercialization Group at Ben Franklin Tech Partners\, will be hosting open office hours at NextFab to answer questions about BFTP from our community. \nMark Trabbold\, Director of Business Development\, Technology Commercialization Group at Ben Franklin Tech Partners\nFor more than 31 years\, Ben Franklin Tech Partners (BFTP) has provided both early-stage\, technology-based firms and established manufacturers with funding\, business and technical expertise\, and access to a network of innovative\, expert resources. \nMark has 30 years of experience in innovation\, process engineering and construction. Prior to joining Ben Franklin\, Mark was Vice President\, R&D\, Insulation Group\, CertainTeed Corporation\, a North American building materials manufacturing company\, where he was responsible for R&D and new business development. He also held prior Technical Management and Product Development positions at CertainTeed. Mark holds a B.S. in Chemistry from Eastern University. \nMark will be available for drop-in consultations in our coworking area from 10am- 4pm.
URL:https://nextfab.com/event/ask-expert-ben-franklin-tech-partners-6/
CATEGORIES:Expert Advice
ATTACH;FMTTYPE=image/jpeg:https://nextfab.com/wp-content/uploads/2017/03/file-1660605308-jpg.jpg
END:VEVENT
BEGIN:VEVENT
DTSTART;TZID=America/New_York:20171220T110000
DTEND;TZID=America/New_York:20171220T180000
DTSTAMP:20260423T112224
CREATED:20171205T233523Z
LAST-MODIFIED:20171205T233523Z
UID:3733-1513767600-1513792800@nextfab.com
SUMMARY:Patent Advice at South Philly
DESCRIPTION:Scott Keeley will be hosting Open Office Hours in our coworking space at 2025 Washington Ave and will be available for free legal consultations for NextFab members. \nScott is a registered patent agent with 12 years of experience in intellectual property. He has engineered products from guitars to wind turbines\, with “green” energy powering much of his innovative output. His early career of 18 years centered on industrial design in the United States and Europe. He taught industrial design at Kansas City Art Institute and has a Master’s in Industrial Design.
URL:https://nextfab.com/event/patent-agent-office-hours-6/
CATEGORIES:Expert Advice
ATTACH;FMTTYPE=image/jpeg:https://nextfab.com/wp-content/uploads/2017/03/8639499425_13dd3137ba_o.jpg
END:VEVENT
BEGIN:VEVENT
DTSTART;TZID=America/New_York:20171222T150000
DTEND;TZID=America/New_York:20171222T160000
DTSTAMP:20260423T112224
CREATED:20171212T204444Z
LAST-MODIFIED:20171212T204444Z
UID:3788-1513954800-1513958400@nextfab.com
SUMMARY:Project Advice with Matt Bell
DESCRIPTION:Sometimes the hardest part about a project is knowing where to start. Other times you hit a roadblock and aren’t sure what to do next. If you find yourself in that situation\, this session is for you. Matt Bell runs NextFab’s Contract Services division and has a deep understanding of the incredible things that can be done using our tools\, training\, and expertise. \nMatt will be available in the South Philly coworking area every Friday from 3:00pm-4:00pm for free consultations for NextFab members. \nSchedule a 15-minute session here or just drop in.
URL:https://nextfab.com/event/project-advice-matt-bell-10/
CATEGORIES:Expert Advice
ATTACH;FMTTYPE=image/jpeg:https://nextfab.com/wp-content/uploads/2017/03/8639499425_13dd3137ba_o.jpg
END:VEVENT
END:VCALENDAR