BEGIN:VCALENDAR
VERSION:2.0
PRODID:-//NextFab - ECPv6.15.20//NONSGML v1.0//EN
CALSCALE:GREGORIAN
METHOD:PUBLISH
X-ORIGINAL-URL:https://nextfab.com
X-WR-CALDESC:Events for NextFab
REFRESH-INTERVAL;VALUE=DURATION:PT1H
X-Robots-Tag:noindex
X-PUBLISHED-TTL:PT1H
BEGIN:VTIMEZONE
TZID:America/New_York
BEGIN:DAYLIGHT
TZOFFSETFROM:-0500
TZOFFSETTO:-0400
TZNAME:EDT
DTSTART:20170312T070000
END:DAYLIGHT
BEGIN:STANDARD
TZOFFSETFROM:-0400
TZOFFSETTO:-0500
TZNAME:EST
DTSTART:20171105T060000
END:STANDARD
BEGIN:DAYLIGHT
TZOFFSETFROM:-0500
TZOFFSETTO:-0400
TZNAME:EDT
DTSTART:20180311T070000
END:DAYLIGHT
BEGIN:STANDARD
TZOFFSETFROM:-0400
TZOFFSETTO:-0500
TZNAME:EST
DTSTART:20181104T060000
END:STANDARD
BEGIN:DAYLIGHT
TZOFFSETFROM:-0500
TZOFFSETTO:-0400
TZNAME:EDT
DTSTART:20190310T070000
END:DAYLIGHT
BEGIN:STANDARD
TZOFFSETFROM:-0400
TZOFFSETTO:-0500
TZNAME:EST
DTSTART:20191103T060000
END:STANDARD
END:VTIMEZONE
BEGIN:VEVENT
DTSTART;TZID=America/New_York:20180201T100000
DTEND;TZID=America/New_York:20180201T170000
DTSTAMP:20260423T075853
CREATED:20171206T190448Z
LAST-MODIFIED:20171206T190448Z
UID:3745-1517479200-1517504400@nextfab.com
SUMMARY:Intellectual Property Advice at NextFab South Philly
DESCRIPTION:Vadim Cherkasov is an intellectual property attorney with a focus on patent and trademark prosecution. Vadim worked as a mechanical engineer prior to his legal practice\, and has experience with patents in a wide range of technologies\, including medical devices\, electrical devices\, biometric-based security systems\, power generation equipment\, agricultural devices\, computer network systems\, and software-based systems. In addition to the preparation and prosecution of patent applications\, he has experience in patentability and freedom-to-operate searches\, and providing opinions based on his findings. Vadim’s clients range from individual inventors to large corporations. \nVadim will be available in our coworking area on February 1st from 10:00AM-5:00PM for free\, drop-in consultations about intellectual property for NextFab members.
URL:https://nextfab.com/event/intellectual-property-advice-nextfab-south-philly/
CATEGORIES:Expert Advice
ATTACH;FMTTYPE=image/jpeg:https://nextfab.com/wp-content/uploads/2017/03/8639499425_13dd3137ba_o.jpg
END:VEVENT
BEGIN:VEVENT
DTSTART;TZID=America/New_York:20180213T100000
DTEND;TZID=America/New_York:20180213T130000
DTSTAMP:20260423T075853
CREATED:20180202T165901Z
LAST-MODIFIED:20180202T165901Z
UID:4012-1518516000-1518526800@nextfab.com
SUMMARY:Ask the Expert: Ben Franklin Tech Partners
DESCRIPTION:Mark Trabbold\, Director of Business Development\, Technology Commercialization Group at Ben Franklin Tech Partners\, will be hosting open office hours at NextFab to answer questions about BFTP from our member community. \nMark Trabbold\, Director of Business Development\, Technology Commercialization Group at Ben Franklin Tech Partners\nFor more than 31 years\, Ben Franklin Tech Partners (BFTP) has provided both early-stage\, technology-based firms and established manufacturers with funding\, business and technical expertise\, and access to a network of innovative\, expert resources. \nMark has 30 years of experience in innovation\, process engineering and construction. Prior to joining Ben Franklin\, Mark was Vice President\, R&D\, Insulation Group\, CertainTeed Corporation\, a North American building materials manufacturing company\, where he was responsible for R&D and new business development. He also held prior Technical Management and Product Development positions at CertainTeed. Mark holds a B.S. in Chemistry from Eastern University. \nMark will be available for drop-in consultations in our coworking area from 10am- 1pm.
URL:https://nextfab.com/event/ask-expert-ben-franklin-tech-partners-7/
CATEGORIES:Expert Advice
ATTACH;FMTTYPE=image/jpeg:https://nextfab.com/wp-content/uploads/2017/03/file-1660605308-jpg.jpg
END:VEVENT
BEGIN:VEVENT
DTSTART;TZID=America/New_York:20180215T130000
DTEND;TZID=America/New_York:20180215T183000
DTSTAMP:20260423T075853
CREATED:20171227T024841Z
LAST-MODIFIED:20171227T024841Z
UID:3836-1518699600-1518719400@nextfab.com
SUMMARY:Free Legal Advice for Startups and Makers
DESCRIPTION:Ku Yoo\, partner at Chang & Yoo LLP\, represents businesses\, investors\, high net-worth individuals\, investment vehicles\, and funds in various industries including startup\, biotech\, software\, and real estate\, in addition to electronics manufacturers and suppliers and services in hospitality and construction. Ku is passionate about helping business people do business; beginning with business formation and incorporation\, working through the growth of the business\, dealing with acquisitions and sales\, and finally helping with its exit strategies. He advises clients with issues arising from day-to-day operations of the business to major transactions including sale\, acquisition\, or other changes and restructures\, as well as foreign companies doing business in the United States. \nKu will be available in our coworking area on February 15th from 1:00PM-6:30PM for free\, drop-in legal consultations for NextFab members. \n \nKu Yoo
URL:https://nextfab.com/event/3836/
CATEGORIES:Expert Advice
END:VEVENT
BEGIN:VEVENT
DTSTART;TZID=America/New_York:20180215T183000
DTEND;TZID=America/New_York:20180215T203000
DTSTAMP:20260423T075853
CREATED:20180126T172209Z
LAST-MODIFIED:20180126T172209Z
UID:3971-1518719400-1518726600@nextfab.com
SUMMARY:From Making to Selling: A Discussion with Entrepreneur Works
DESCRIPTION:Join us for another engaging discussion in a series designed to support entrepreneurs\, makers\, and enterprising artists in their journey from making to selling. On February 15th at our North Philly location we’ll be hosting Earl Boyd\, Director of Entrepreneur Services for Entrepreneur Works. Entrepreneur Works is a nonprofit organization that offers access to microloans\, business training\, and one-on-one guidance to hundreds of entrepreneurs each year. Earl will cover the first steps you need to take in order to create a successful business in his presentation: Getting Your Idea To Fly. \n\nLet us know if you can attend!
URL:https://nextfab.com/event/making-selling-discussion-entrepreneur-works/
LOCATION:NextFab\, 1800 N. American St.\, Philadelphia\, PA\, 19122\, United States
CATEGORIES:Expert Advice,Guest Speaker
ATTACH;FMTTYPE=image/jpeg:https://nextfab.com/wp-content/uploads/2017/04/IMG_2760-scaled.jpg
END:VEVENT
BEGIN:VEVENT
DTSTART;TZID=America/New_York:20180216T110000
DTEND;TZID=America/New_York:20180216T180000
DTSTAMP:20260423T075853
CREATED:20180127T213155Z
LAST-MODIFIED:20180127T213155Z
UID:3974-1518778800-1518804000@nextfab.com
SUMMARY:Patent Advice at South Philly
DESCRIPTION:Scott Keeley will be hosting Open Office Hours in our coworking space at 2025 Washington Ave and will be available for free legal consultations for NextFab members. \nScott is a registered patent agent with 12 years of experience in intellectual property. He has engineered products from guitars to wind turbines\, with “green” energy powering much of his innovative output. His early career of 18 years centered on industrial design in the United States and Europe. He taught industrial design at Kansas City Art Institute and has a Master’s in Industrial Design. \n 
URL:https://nextfab.com/event/patent-advice-south-philly/
CATEGORIES:Expert Advice
ATTACH;FMTTYPE=image/jpeg:https://nextfab.com/wp-content/uploads/2017/03/8639499425_13dd3137ba_o.jpg
END:VEVENT
BEGIN:VEVENT
DTSTART;TZID=America/New_York:20180222T130000
DTEND;TZID=America/New_York:20180222T173000
DTSTAMP:20260423T075853
CREATED:20171227T023339Z
LAST-MODIFIED:20171227T023339Z
UID:3828-1519304400-1519320600@nextfab.com
SUMMARY:Ask the Expert: Marketing\, Media\, and PR
DESCRIPTION:Mike Lizun is a senior vice president with Gregory FCA\, a PR firm based in Ardmore. Mike leads the firm’s technology PR division\, and for over 20 years has been providing public relations and media relations services\, and helping startups\, crowdfunders\, and mature global technology companies earn press coverage in major national and technology media. \nA full-service\, strategically integrated firm\, Gregory FCA creates and deploys sophisticated media relations\, social media\, content marketing\, investor relations\, and financial communications campaigns. \nMike will be available in our coworking area on February 22nd from 1:00PM-5:30PM for free\, drop-in consultations about public and media relations\, marketing\, and social media strategy for NextFab members. \n \nMike Lizun
URL:https://nextfab.com/event/ask-expert-marketing-media-pr/
CATEGORIES:Expert Advice
END:VEVENT
END:VCALENDAR