BEGIN:VCALENDAR
VERSION:2.0
PRODID:-//NextFab - ECPv6.15.20//NONSGML v1.0//EN
CALSCALE:GREGORIAN
METHOD:PUBLISH
X-ORIGINAL-URL:https://nextfab.com
X-WR-CALDESC:Events for NextFab
REFRESH-INTERVAL;VALUE=DURATION:PT1H
X-Robots-Tag:noindex
X-PUBLISHED-TTL:PT1H
BEGIN:VTIMEZONE
TZID:America/New_York
BEGIN:DAYLIGHT
TZOFFSETFROM:-0500
TZOFFSETTO:-0400
TZNAME:EDT
DTSTART:20170312T070000
END:DAYLIGHT
BEGIN:STANDARD
TZOFFSETFROM:-0400
TZOFFSETTO:-0500
TZNAME:EST
DTSTART:20171105T060000
END:STANDARD
BEGIN:DAYLIGHT
TZOFFSETFROM:-0500
TZOFFSETTO:-0400
TZNAME:EDT
DTSTART:20180311T070000
END:DAYLIGHT
BEGIN:STANDARD
TZOFFSETFROM:-0400
TZOFFSETTO:-0500
TZNAME:EST
DTSTART:20181104T060000
END:STANDARD
BEGIN:DAYLIGHT
TZOFFSETFROM:-0500
TZOFFSETTO:-0400
TZNAME:EDT
DTSTART:20190310T070000
END:DAYLIGHT
BEGIN:STANDARD
TZOFFSETFROM:-0400
TZOFFSETTO:-0500
TZNAME:EST
DTSTART:20191103T060000
END:STANDARD
END:VTIMEZONE
BEGIN:VEVENT
DTSTART;TZID=America/New_York:20180405T100000
DTEND;TZID=America/New_York:20180405T170000
DTSTAMP:20260423T044025
CREATED:20180221T155129Z
LAST-MODIFIED:20180221T155129Z
UID:4140-1522922400-1522947600@nextfab.com
SUMMARY:Intellectual Property Advice at NextFab South Philly
DESCRIPTION:Vadim Cherkasov is an intellectual property attorney with a focus on patent and trademark prosecution. Vadim worked as a mechanical engineer prior to his legal practice\, and has experience with patents in a wide range of technologies\, including medical devices\, electrical devices\, biometric-based security systems\, power generation equipment\, agricultural devices\, computer network systems\, and software-based systems. In addition to the preparation and prosecution of patent applications\, he has experience in patentability and freedom-to-operate searches\, and providing opinions based on his findings. Vadim’s clients range from individual inventors to large corporations. \nVadim will be available in our coworking area on April 5th from 10:00AM-5:00PM for free\, drop-in consultations about intellectual property for NextFab members.
URL:https://nextfab.com/event/intellectual-property-advice-nextfab-south-philly-3/
CATEGORIES:Expert Advice
ATTACH;FMTTYPE=image/jpeg:https://nextfab.com/wp-content/uploads/2017/03/8639499425_13dd3137ba_o.jpg
END:VEVENT
BEGIN:VEVENT
DTSTART;TZID=America/New_York:20180411T170000
DTEND;TZID=America/New_York:20180411T220000
DTSTAMP:20260423T044025
CREATED:20180323T140713Z
LAST-MODIFIED:20180323T140713Z
UID:4314-1523466000-1523484000@nextfab.com
SUMMARY:Ask the Expert: Building Out Your Books
DESCRIPTION:On Wednesday\, April 11th\, stop by our South Philly location for free expert advice from Zach Cooper on the basics of bookkeeping for your startup or small business. We’ll take a look at: \n\nSetting up a chart of accounts\nChoosing an accounting software (if you’re ready for it)\nSeparating your personal and business finances.\n\nZach Cooper is a local bookkeeper that assists small businesses in the area with their books as well as other basic accounting needs. After graduating from Temple University with a degree in accounting\, he started a company with a group of friends to offer outsourced bookkeeping services to help local businesses that cannot afford to hire their own accountant. Apart from bookkeeping\, Zach is spending a lot of his free time trying to build his first chair in his basement workshop (any tips would be appreciated!) and grows a small backyard garden.   \nZach Cooper
URL:https://nextfab.com/event/ask-the-expert-building-out-your-books/
CATEGORIES:Expert Advice
ATTACH;FMTTYPE=image/jpeg:https://nextfab.com/wp-content/uploads/2017/03/8639499425_13dd3137ba_o.jpg
END:VEVENT
BEGIN:VEVENT
DTSTART;TZID=America/New_York:20180412T130000
DTEND;TZID=America/New_York:20180412T160000
DTSTAMP:20260423T044025
CREATED:20171227T023944Z
LAST-MODIFIED:20171227T023944Z
UID:3831-1523538000-1523548800@nextfab.com
SUMMARY:Ask the Expert: Marketing\, Media\, and PR
DESCRIPTION:Mike Lizun is a senior vice president with Gregory FCA\, a PR firm based in Ardmore. Mike leads the firm’s technology PR division\, and for over 20 years has been providing public relations and media relations services\, and helping startups\, crowdfunders\, and mature global technology companies earn press coverage in major national and technology media. \nA full-service\, strategically integrated firm\, Gregory FCA creates and deploys sophisticated media relations\, social media\, content marketing\, investor relations\, and financial communications campaigns. \nMike will be available in our coworking area on April 11th from 1:00PM-4:00PM for free\, drop-in consultations about public and media relations\, marketing\, and social media strategy for NextFab members. \n \nMike Lizun
URL:https://nextfab.com/event/ask-expert-marketing-media-pr-2/
CATEGORIES:Expert Advice
ATTACH;FMTTYPE=image/jpeg:https://nextfab.com/wp-content/uploads/2017/03/8639499425_13dd3137ba_o.jpg
END:VEVENT
BEGIN:VEVENT
DTSTART;TZID=America/New_York:20180413T103000
DTEND;TZID=America/New_York:20180413T173000
DTSTAMP:20260423T044025
CREATED:20180403T221705Z
LAST-MODIFIED:20180403T221705Z
UID:4376-1523615400-1523640600@nextfab.com
SUMMARY:Patent Advice at Wilmington
DESCRIPTION:Scott Keeley will be hosting Open Office Hours in our coworking space at 503 N Tatnall Street and will be available for free legal consultations for NextFab members. \nScott is a registered patent agent with 12 years of experience in intellectual property. He has engineered products from guitars to wind turbines\, with “green” energy powering much of his innovative output. His early career of 18 years centered on industrial design in the United States and Europe. He taught industrial design at Kansas City Art Institute and has a Master’s in Industrial Design.
URL:https://nextfab.com/event/patent-advice-at-wilmington/
LOCATION:Downtown Wilmington\, 503 N. Tatnall Street\, Wilmington\, DE\, 19801\, United States
CATEGORIES:Expert Advice
ATTACH;FMTTYPE=image/jpeg:https://nextfab.com/wp-content/uploads/2016/12/503-N-Tatnall-St1-scaled.jpg
END:VEVENT
BEGIN:VEVENT
DTSTART;TZID=America/New_York:20180419T100000
DTEND;TZID=America/New_York:20180419T123000
DTSTAMP:20260423T044025
CREATED:20180323T143023Z
LAST-MODIFIED:20180323T143023Z
UID:4319-1524132000-1524141000@nextfab.com
SUMMARY:Ask the Expert: Ben Franklin Tech Partners
DESCRIPTION:Mark Trabbold\, Director of Business Development\, Technology Commercialization Group at Ben Franklin Tech Partners\, will be hosting open office hours at NextFab to answer questions about BFTP from our member community. \nMark Trabbold\, Director of Business Development\, Technology Commercialization Group at Ben Franklin Tech Partners\nFor more than 31 years\, Ben Franklin Tech Partners (BFTP) has provided both early-stage\, technology-based firms and established manufacturers with funding\, business and technical expertise\, and access to a network of innovative\, expert resources. \nMark has 30 years of experience in innovation\, process engineering and construction. Prior to joining Ben Franklin\, Mark was Vice President\, R&D\, Insulation Group\, CertainTeed Corporation\, a North American building materials manufacturing company\, where he was responsible for R&D and new business development. He also held prior Technical Management and Product Development positions at CertainTeed. Mark holds a B.S. in Chemistry from Eastern University. \nMark will be available for drop-in consultations in our coworking area from 10am- 12:30pm.
URL:https://nextfab.com/event/ask-the-expert-ben-franklin-tech-partners-4/
CATEGORIES:Expert Advice
ATTACH;FMTTYPE=image/jpeg:https://nextfab.com/wp-content/uploads/2017/03/file-1660605308-jpg.jpg
END:VEVENT
BEGIN:VEVENT
DTSTART;TZID=America/New_York:20180419T123000
DTEND;TZID=America/New_York:20180419T140000
DTSTAMP:20260423T044025
CREATED:20180309T211214Z
LAST-MODIFIED:20180309T211214Z
UID:4245-1524141000-1524146400@nextfab.com
SUMMARY:Ben Franklin Technology Partners: Meet Ben
DESCRIPTION:For entrepreneurs interested in growing their business to the next level: learn about what Ben Franklin Technology Partners of Southeastern Pennsylvania does for technology-focused startups and companies in the Greater Philadelphia region\, and the capital\, counsel and connections you can gain through Ben Franklin’s investments. \nClick Here to Register
URL:https://nextfab.com/event/ben-franklin-technology-partners-meet-ben/
CATEGORIES:Expert Advice
ATTACH;FMTTYPE=image/jpeg:https://nextfab.com/wp-content/uploads/2017/03/file-1660605308-jpg.jpg
END:VEVENT
BEGIN:VEVENT
DTSTART;TZID=America/New_York:20180423T103000
DTEND;TZID=America/New_York:20180423T173000
DTSTAMP:20260423T044025
CREATED:20180404T005633Z
LAST-MODIFIED:20180404T005633Z
UID:4380-1524479400-1524504600@nextfab.com
SUMMARY:Patent Advice at South Philly
DESCRIPTION:Scott Keeley will be hosting Open Office Hours in our coworking space at 2025 Washington Ave and will be available for free legal consultations for NextFab members. \nScott is a registered patent agent with 12 years of experience in intellectual property. He has engineered products from guitars to wind turbines\, with “green” energy powering much of his innovative output. His early career of 18 years centered on industrial design in the United States and Europe. He taught industrial design at Kansas City Art Institute and has a Master’s in Industrial Design.
URL:https://nextfab.com/event/patent-advice-at-south-philly/
CATEGORIES:Expert Advice
ATTACH;FMTTYPE=image/jpeg:https://nextfab.com/wp-content/uploads/2017/03/8639499425_13dd3137ba_o.jpg
END:VEVENT
BEGIN:VEVENT
DTSTART;TZID=America/New_York:20180430T163000
DTEND;TZID=America/New_York:20180430T183000
DTSTAMP:20260423T044025
CREATED:20180404T145534Z
LAST-MODIFIED:20180404T145534Z
UID:4382-1525105800-1525113000@nextfab.com
SUMMARY:Free Legal Advice for Makers
DESCRIPTION:Esuga Abaya is a corporate attorney sitting in the Philadelphia office of DLA Piper with experience representing a range of clients\, including start-ups\, private companies\, public companies and private equity firms\, in various corporate matters including mergers and acquisitions\, corporate restructurings\, commercial contract drafting\, equity financings and general corporate governance. His experience spans different industries\, including life sciences and new technology\, software\, insurance\, manufacturing and financial services. \nEsuga will be available in our South Philly coworking area on April 30th from 4:30-6:30pm for free legal consultations for NextFab members. Use this link to reserve a 30 minute spot. \n \nEsuga Abaya
URL:https://nextfab.com/event/legal-advice-for-makers/
CATEGORIES:Expert Advice
ATTACH;FMTTYPE=image/jpeg:https://nextfab.com/wp-content/uploads/2017/03/8639499425_13dd3137ba_o.jpg
END:VEVENT
END:VCALENDAR