BEGIN:VCALENDAR
VERSION:2.0
PRODID:-//NextFab - ECPv6.15.12.2//NONSGML v1.0//EN
CALSCALE:GREGORIAN
METHOD:PUBLISH
X-WR-CALNAME:NextFab
X-ORIGINAL-URL:https://nextfab.com
X-WR-CALDESC:Events for NextFab
REFRESH-INTERVAL;VALUE=DURATION:PT1H
X-Robots-Tag:noindex
X-PUBLISHED-TTL:PT1H
BEGIN:VTIMEZONE
TZID:America/New_York
BEGIN:DAYLIGHT
TZOFFSETFROM:-0500
TZOFFSETTO:-0400
TZNAME:EDT
DTSTART:20170312T070000
END:DAYLIGHT
BEGIN:STANDARD
TZOFFSETFROM:-0400
TZOFFSETTO:-0500
TZNAME:EST
DTSTART:20171105T060000
END:STANDARD
BEGIN:DAYLIGHT
TZOFFSETFROM:-0500
TZOFFSETTO:-0400
TZNAME:EDT
DTSTART:20180311T070000
END:DAYLIGHT
BEGIN:STANDARD
TZOFFSETFROM:-0400
TZOFFSETTO:-0500
TZNAME:EST
DTSTART:20181104T060000
END:STANDARD
BEGIN:DAYLIGHT
TZOFFSETFROM:-0500
TZOFFSETTO:-0400
TZNAME:EDT
DTSTART:20190310T070000
END:DAYLIGHT
BEGIN:STANDARD
TZOFFSETFROM:-0400
TZOFFSETTO:-0500
TZNAME:EST
DTSTART:20191103T060000
END:STANDARD
END:VTIMEZONE
BEGIN:VEVENT
DTSTART;TZID=America/New_York:20180605T183000
DTEND;TZID=America/New_York:20180605T203000
DTSTAMP:20260421T021101
CREATED:20180511T153127Z
LAST-MODIFIED:20180511T153127Z
UID:4576-1528223400-1528230600@nextfab.com
SUMMARY:Getting Your Idea to Fly: A Discussion with Entrepreneur Works
DESCRIPTION:Join us for an engaging discussion designed to support entrepreneurs\, makers\, and enterprising artists in their journey from making to selling. On June 5th at our Wilmington location we’ll be hosting Earl Boyd\, Director of Entrepreneur Services for Entrepreneur Works. Entrepreneur Works is a nonprofit organization that offers access to microloans\, business training\, and one-on-one guidance to hundreds of entrepreneurs each year. Earl will cover the first steps you need to take in order to create a successful business in his presentation: Getting Your Idea To Fly. \n\nLet us know if you can attend!
URL:https://nextfab.com/event/getting-your-idea-to-fly-a-discussion-with-entrepreneur-works/
LOCATION:Downtown Wilmington\, 503 N. Tatnall Street\, Wilmington\, DE\, 19801\, United States
CATEGORIES:Expert Advice
ATTACH;FMTTYPE=image/jpeg:https://nextfab.com/wp-content/uploads/2016/12/503-N-Tatnall-St1-scaled.jpg
END:VEVENT
BEGIN:VEVENT
DTSTART;TZID=America/New_York:20180607T100000
DTEND;TZID=America/New_York:20180607T170000
DTSTAMP:20260421T021101
CREATED:20180502T221812Z
LAST-MODIFIED:20180502T221812Z
UID:4542-1528365600-1528390800@nextfab.com
SUMMARY:Intellectual Property Advice at South Philly
DESCRIPTION:Vadim Cherkasov is an intellectual property attorney with a focus on patent and trademark prosecution. Vadim worked as a mechanical engineer prior to his legal practice\, and has experience with patents in a wide range of technologies\, including medical devices\, electrical devices\, biometric-based security systems\, power generation equipment\, agricultural devices\, computer network systems\, and software-based systems. In addition to the preparation and prosecution of patent applications\, he has experience in patentability and freedom-to-operate searches\, and providing opinions based on his findings. Vadim’s clients range from individual inventors to large corporations. \nVadim will be available in our coworking area on June 7th from 10:00AM-5:00PM for free\, drop-in consultations about intellectual property for NextFab members.
URL:https://nextfab.com/event/intellectual-property-advice-at-south-philly-2/
CATEGORIES:Expert Advice
ATTACH;FMTTYPE=image/jpeg:https://nextfab.com/wp-content/uploads/2017/02/Daimler_Reitwagen_color_drawing_1885_DE_patent_36423.jpg
END:VEVENT
BEGIN:VEVENT
DTSTART;TZID=America/New_York:20180613T130000
DTEND;TZID=America/New_York:20180613T180000
DTSTAMP:20260421T021101
CREATED:20180525T144605Z
LAST-MODIFIED:20180525T144605Z
UID:4671-1528894800-1528912800@nextfab.com
SUMMARY:Free Legal Advice for Startups and Makers
DESCRIPTION:Ku Yoo\, partner at Chang & Yoo LLP\, represents businesses\, investors\, high net-worth individuals\, investment vehicles\, and funds in various industries including startup\, biotech\, software\, and real estate\, in addition to electronics manufacturers and suppliers and services in hospitality and construction. Ku is passionate about helping business people do business; beginning with business formation and incorporation\, working through the growth of the business\, dealing with acquisitions and sales\, and finally helping with its exit strategies. He advises clients with issues arising from day-to-day operations of the business to major transactions including sale\, acquisition\, or other changes and restructures\, as well as foreign companies doing business in the United States. \nKu will be available in our coworking area from 1:00PM-6:00PM for free\, drop-in legal consultations for NextFab members. \n \nKu Yoo
URL:https://nextfab.com/event/free-legal-advice-for-startups-and-makers-2/
CATEGORIES:Expert Advice
ATTACH;FMTTYPE=image/jpeg:https://nextfab.com/wp-content/uploads/2017/03/8639499425_13dd3137ba_o.jpg
END:VEVENT
BEGIN:VEVENT
DTSTART;TZID=America/New_York:20180613T160000
DTEND;TZID=America/New_York:20180613T210000
DTSTAMP:20260421T021101
CREATED:20180525T145206Z
LAST-MODIFIED:20180525T145206Z
UID:4678-1528905600-1528923600@nextfab.com
SUMMARY:Ask the Expert: Building Out Your Books
DESCRIPTION:On June 13th\, stop by our South Philly location for free expert advice from Zach Cooper on the basics of bookkeeping for your startup or small business. We’ll take a look at: \n\nSetting up a chart of accounts\nChoosing an accounting software (if you’re ready for it)\nSeparating your personal and business finances\n\nZach Cooper is a local bookkeeper that assists small businesses in the area with their books as well as other basic accounting needs. After graduating from Temple University with a degree in accounting\, he started a company with a group of friends to offer outsourced bookkeeping services to help local businesses that cannot afford to hire their own accountant. Apart from bookkeeping\, Zach is spending a lot of his free time trying to build his first chair in his basement workshop (any tips would be appreciated!) and grows a small backyard garden.   \n \nZach Cooper
URL:https://nextfab.com/event/4678/
CATEGORIES:Expert Advice
ATTACH;FMTTYPE=image/jpeg:https://nextfab.com/wp-content/uploads/2017/03/8639499425_13dd3137ba_o.jpg
END:VEVENT
BEGIN:VEVENT
DTSTART;TZID=America/New_York:20180621T163000
DTEND;TZID=America/New_York:20180621T183000
DTSTAMP:20260421T021101
CREATED:20180622T155425Z
LAST-MODIFIED:20180622T155425Z
UID:4810-1529598600-1529605800@nextfab.com
SUMMARY:Free Legal Advice for Makers
DESCRIPTION:Esuga Abaya is a corporate attorney sitting in the Philadelphia office of DLA Piper with experience representing a range of clients\, including start-ups\, private companies\, public companies and private equity firms\, in various corporate matters including mergers and acquisitions\, corporate restructurings\, commercial contract drafting\, equity financings and general corporate governance. His experience spans different industries\, including life sciences and new technology\, software\, insurance\, manufacturing and financial services. \nEsuga will be available in our South Philly coworking area on June 21st from 4:30-6:30pm for free legal consultations for NextFab members. Use this link to reserve a 30 minute spot. \n \nEsuga Abaya
URL:https://nextfab.com/event/free-legal-advice-for-makers-2/
CATEGORIES:Expert Advice
ATTACH;FMTTYPE=image/jpeg:https://nextfab.com/wp-content/uploads/2017/03/8639499425_13dd3137ba_o.jpg
END:VEVENT
BEGIN:VEVENT
DTSTART;TZID=America/New_York:20180625T100000
DTEND;TZID=America/New_York:20180625T180000
DTSTAMP:20260421T021101
CREATED:20180525T144726Z
LAST-MODIFIED:20180525T144726Z
UID:4673-1529920800-1529949600@nextfab.com
SUMMARY:Patent Advice at South Philly
DESCRIPTION:Scott Keeley will be hosting Open Office Hours in our coworking space at 2025 Washington Ave and will be available for free legal consultations for NextFab members. \nScott is a registered patent agent with 12 years of experience in intellectual property. He has engineered products from guitars to wind turbines\, with “green” energy powering much of his innovative output. His early career of 18 years centered on industrial design in the United States and Europe. He taught industrial design at Kansas City Art Institute and has a Master’s in Industrial Design.
URL:https://nextfab.com/event/patent-advice-at-south-philly-3/
CATEGORIES:Expert Advice
ATTACH;FMTTYPE=image/jpeg:https://nextfab.com/wp-content/uploads/2017/03/8639499425_13dd3137ba_o.jpg
END:VEVENT
BEGIN:VEVENT
DTSTART;TZID=America/New_York:20180627T140000
DTEND;TZID=America/New_York:20180627T180000
DTSTAMP:20260421T021101
CREATED:20180529T202639Z
LAST-MODIFIED:20180529T202639Z
UID:4684-1530108000-1530122400@nextfab.com
SUMMARY:Patent Advice at NextFab Wilmington
DESCRIPTION:Scott Keeley will be hosting Open Office Hours in our coworking space in our Wilmington facility and will be available for free legal consultations for NextFab members. \nScott is a registered patent agent with 12 years of experience in intellectual property. He has engineered products from guitars to wind turbines\, with “green” energy powering much of his innovative output. His early career of 18 years centered on industrial design in the United States and Europe. He taught industrial design at Kansas City Art Institute and has a Master’s in Industrial Design.
URL:https://nextfab.com/event/patent-advice-at-nextfab-wilmington/
LOCATION:Downtown Wilmington\, 503 N. Tatnall Street\, Wilmington\, DE\, 19801\, United States
CATEGORIES:Expert Advice
ATTACH;FMTTYPE=image/jpeg:https://nextfab.com/wp-content/uploads/2016/12/503-N-Tatnall-St1-scaled.jpg
END:VEVENT
END:VCALENDAR