BEGIN:VCALENDAR
VERSION:2.0
PRODID:-//NextFab - ECPv6.15.12.2//NONSGML v1.0//EN
CALSCALE:GREGORIAN
METHOD:PUBLISH
X-ORIGINAL-URL:https://nextfab.com
X-WR-CALDESC:Events for NextFab
REFRESH-INTERVAL;VALUE=DURATION:PT1H
X-Robots-Tag:noindex
X-PUBLISHED-TTL:PT1H
BEGIN:VTIMEZONE
TZID:America/New_York
BEGIN:DAYLIGHT
TZOFFSETFROM:-0500
TZOFFSETTO:-0400
TZNAME:EDT
DTSTART:20180311T070000
END:DAYLIGHT
BEGIN:STANDARD
TZOFFSETFROM:-0400
TZOFFSETTO:-0500
TZNAME:EST
DTSTART:20181104T060000
END:STANDARD
BEGIN:DAYLIGHT
TZOFFSETFROM:-0500
TZOFFSETTO:-0400
TZNAME:EDT
DTSTART:20190310T070000
END:DAYLIGHT
BEGIN:STANDARD
TZOFFSETFROM:-0400
TZOFFSETTO:-0500
TZNAME:EST
DTSTART:20191103T060000
END:STANDARD
BEGIN:DAYLIGHT
TZOFFSETFROM:-0500
TZOFFSETTO:-0400
TZNAME:EDT
DTSTART:20200308T070000
END:DAYLIGHT
BEGIN:STANDARD
TZOFFSETFROM:-0400
TZOFFSETTO:-0500
TZNAME:EST
DTSTART:20201101T060000
END:STANDARD
END:VTIMEZONE
BEGIN:VEVENT
DTSTART;TZID=America/New_York:20190516T100000
DTEND;TZID=America/New_York:20190516T180000
DTSTAMP:20260420T064345
CREATED:20190212T195521Z
LAST-MODIFIED:20190212T195521Z
UID:6652-1558000800-1558029600@nextfab.com
SUMMARY:Patent Advice at South Philly
DESCRIPTION:Scott Keeley will be hosting Open Office Hours in our coworking space at 2025 Washington Ave and will be available for free legal consultations for NextFab members. \nScott is a registered patent agent with 12 years of experience in intellectual property. He has engineered products from guitars to wind turbines\, with “green” energy powering much of his innovative output. His early career of 18 years centered on industrial design in the United States and Europe. He taught industrial design at Kansas City Art Institute and has a Master’s in Industrial Design.
URL:https://nextfab.com/event/patent-advice-at-south-philly-14/
CATEGORIES:Expert Advice
ATTACH;FMTTYPE=image/jpeg:https://nextfab.com/wp-content/uploads/2017/03/8639499425_13dd3137ba_o.jpg
END:VEVENT
BEGIN:VEVENT
DTSTART;TZID=America/New_York:20190517T140000
DTEND;TZID=America/New_York:20190517T180000
DTSTAMP:20260420T064345
CREATED:20190513T210257Z
LAST-MODIFIED:20190513T210257Z
UID:7898-1558101600-1558116000@nextfab.com
SUMMARY:Business Coaching with Earl Boyd at South Philly
DESCRIPTION:Earl Boyd is a business coach and entrepreneur with nearly 40 years of business consulting and ownership experience. He is the creator of the 5 Step Business Start\, a digital online system that helps people start a business the right way. Earl is also Director of Entrepreneur Services at Entrepreneur Works and Entrepreneur in Residence at Philadelphia Fashion Incubator at Macy’s. \nEarl will be providing free business coaching consultations for NextFab members in our South Philly coworking space on Friday\, May 17th from 2pm to 6pm. Appointments are 30 minutes and first-come\, first-serve. \n  \nEarl’s other endeavors include: \n\nBoard member for Scotch Porter (Quallis Brands)\nVice President Board of Directors for Ralston-Mercy-Douglass\nFormer member of the Board of Governors for Saint Joseph’s University Haub School of\nBusiness.\nFounding President of West Philadelphia Financial Institution – Led organization to co-develop\nand co-own $50 million shopping center (Park West Town Center) anchored by Lowe’s Home\nImprovement Center and Shop Rite Supermarket. Lowe’s store was the first to be built in an\ninner city/urban neighborhood in the U.S\n\n“An entrepreneur once characterized me as the ‘wise uncle’ that knows a lot about everything. She said\,\n‘Talking with him (Earl Boyd) is like talking with a family member or trusted friend about what to do with\nmy business idea\, how do I make money and how do I make an impact. He’s the person you go to when\nyou don’t know what to do (in business) and then he makes you believe that whatever it is you want to\ndo\, it’s possible.’ \nAfter thinking about her comment and reflecting on my career endeavors\, I graciously and humbly\nembraced the description\, not because I know everything about business. I am far from that. However\,\nafter 35 years of either being in business\, advising businesses or counseling entrepreneurs who are\nstarting businesses\, I have done a lot and seen a lot which gives me confidence in my knowledge about\nwhat to do and what not to do in business. \nStarting a business or being a business owner is a challenging task. My approach to coaching\nentrepreneurs is to provide you with substantive advice; that you can understand; delivered in a\nstraightforward\, personable style that allows you to walk away feeling confident and capable of doing\nwhat you want to do in business.” \nEarl Boyd
URL:https://nextfab.com/event/business-coaching-with-earl-boyd-at-south-philly-2/
CATEGORIES:Expert Advice
ATTACH;FMTTYPE=image/jpeg:https://nextfab.com/wp-content/uploads/2017/03/8639499425_13dd3137ba_o.jpg
END:VEVENT
BEGIN:VEVENT
DTSTART;TZID=America/New_York:20190522T180000
DTEND;TZID=America/New_York:20190522T193000
DTSTAMP:20260420T064345
CREATED:20190409T134052Z
LAST-MODIFIED:20190409T134052Z
UID:7443-1558548000-1558553400@nextfab.com
SUMMARY:Ask the Expert: Licensing Your Invention with Scott Keeley
DESCRIPTION:Join us for an engaging discussion on the topic of licensing with Scott Keeley. Find answers to the following questions: \nHow does licensing works?\nShould you license it or produce it yourself?\nHow to find a licensor? \nScott Keeley is a registered patent agent with 12 years of experience in intellectual property. He has engineered products from guitars to wind turbines\, with “green” energy powering much of his innovative output. His early career of 18 years centered on industrial design in the United States and Europe. He taught industrial design at Kansas City Art Institute and has a Master’s in Industrial Design.
URL:https://nextfab.com/event/ask-the-expert-licensing-your-invention-with-scott-keeley-2/
CATEGORIES:Expert Advice
ATTACH;FMTTYPE=image/jpeg:https://nextfab.com/wp-content/uploads/2017/02/Daimler_Reitwagen_color_drawing_1885_DE_patent_36423.jpg
END:VEVENT
BEGIN:VEVENT
DTSTART;TZID=America/New_York:20190523T100000
DTEND;TZID=America/New_York:20190523T160000
DTSTAMP:20260420T064345
CREATED:20190115T212019Z
LAST-MODIFIED:20190115T212019Z
UID:6344-1558605600-1558627200@nextfab.com
SUMMARY:Ask the Expert: Ben Franklin Tech Partners
DESCRIPTION:Mark Trabbold\, Director of Business Development\, Technology Commercialization Group at Ben Franklin Tech Partners\, will be hosting open office hours at NextFab to answer questions about BFTP from our member community. \nMark Trabbold\, Director of Business Development\, Technology Commercialization Group at Ben Franklin Tech Partners\nFor more than 31 years\, Ben Franklin Tech Partners (BFTP) has provided both early-stage\, technology-based firms and established manufacturers with funding\, business and technical expertise\, and access to a network of innovative\, expert resources. \nMark has 30 years of experience in innovation\, process engineering and construction. Prior to joining Ben Franklin\, Mark was Vice President\, R&D\, Insulation Group\, CertainTeed Corporation\, a North American building materials manufacturing company\, where he was responsible for R&D and new business development. He also held prior Technical Management and Product Development positions at CertainTeed. Mark holds a B.S. in Chemistry from Eastern University. \nMark will be available for drop-in consultations in our coworking area from 10am- 4pm.
URL:https://nextfab.com/event/ask-the-expert-ben-franklin-tech-partners-14/
CATEGORIES:Expert Advice
ATTACH;FMTTYPE=image/jpeg:https://nextfab.com/wp-content/uploads/2017/03/file-1660605308-jpg.jpg
END:VEVENT
END:VCALENDAR