BEGIN:VCALENDAR
VERSION:2.0
PRODID:-//NextFab - ECPv6.15.12.2//NONSGML v1.0//EN
CALSCALE:GREGORIAN
METHOD:PUBLISH
X-WR-CALNAME:NextFab
X-ORIGINAL-URL:https://nextfab.com
X-WR-CALDESC:Events for NextFab
REFRESH-INTERVAL;VALUE=DURATION:PT1H
X-Robots-Tag:noindex
X-PUBLISHED-TTL:PT1H
BEGIN:VTIMEZONE
TZID:America/New_York
BEGIN:DAYLIGHT
TZOFFSETFROM:-0500
TZOFFSETTO:-0400
TZNAME:EDT
DTSTART:20210314T070000
END:DAYLIGHT
BEGIN:STANDARD
TZOFFSETFROM:-0400
TZOFFSETTO:-0500
TZNAME:EST
DTSTART:20211107T060000
END:STANDARD
BEGIN:DAYLIGHT
TZOFFSETFROM:-0500
TZOFFSETTO:-0400
TZNAME:EDT
DTSTART:20220313T070000
END:DAYLIGHT
BEGIN:STANDARD
TZOFFSETFROM:-0400
TZOFFSETTO:-0500
TZNAME:EST
DTSTART:20221106T060000
END:STANDARD
BEGIN:DAYLIGHT
TZOFFSETFROM:-0500
TZOFFSETTO:-0400
TZNAME:EDT
DTSTART:20230312T070000
END:DAYLIGHT
BEGIN:STANDARD
TZOFFSETFROM:-0400
TZOFFSETTO:-0500
TZNAME:EST
DTSTART:20231105T060000
END:STANDARD
END:VTIMEZONE
BEGIN:VEVENT
DTSTART;TZID=America/New_York:20220201T090000
DTEND;TZID=America/New_York:20220201T163000
DTSTAMP:20260420T180442
CREATED:20211229T145914Z
LAST-MODIFIED:20211229T145914Z
UID:17320-1643706000-1643733000@nextfab.com
SUMMARY:Virtual Office Hours: Intellectual Property
DESCRIPTION:Vadim Cherkasov is an intellectual property attorney with a focus on domestic and foreign patent and trademark prosecution. Vadim worked as a mechanical engineer prior to his legal practice and has over 10 years of experience with patents in a wide range of technologies\, including medical devices\, electrical systems\, software-based systems\, power generation equipment\, and a variety of mechanical devices/systems. In addition to the preparation and prosecution of patent applications\, he has experience with patentability and freedom-to-operate (FTO) searches/opinions\, as well as licensing issues. Vadim’s clients include individual inventors\, start-ups\, and established companies\, and he guides clients in the entire process from invention disclosure discussions to commercialization. \nVadim will be available to NextFab members for free virtual consultations about intellectual property for NextFab members. Schedule an appointment here.
URL:https://nextfab.com/event/virtual-office-hours-intellectual-property-15-2022-02-01/
LOCATION:Online
CATEGORIES:Expert Advice
ATTACH;FMTTYPE=:
END:VEVENT
BEGIN:VEVENT
DTSTART;TZID=America/New_York:20220207T100000
DTEND;TZID=America/New_York:20220207T180000
DTSTAMP:20260420T180442
CREATED:20211229T183014Z
LAST-MODIFIED:20211229T183014Z
UID:24078-1644228000-1644256800@nextfab.com
SUMMARY:Patent Advice from Scott Keeley: Virtual Office Hours
DESCRIPTION:Scott Keeley is a registered patent agent with 12 years of experience in intellectual property. He has engineered products from guitars to wind turbines\, with “green” energy powering much of his innovative output. His early career of 18 years centered on industrial design in the United States and Europe. He taught industrial design at Kansas City Art Institute and has a Master’s in Industrial Design. \n\n\nScott will be available on Monday\, December 20th from 11:00am-5:00pm for free virtual consultations for NextFab members about patents. Make an appointment here.
URL:https://nextfab.com/event/patent-advice-from-scott-keeley-virtual-office-hours-3-2022-02-07/
LOCATION:Online
CATEGORIES:Expert Advice
END:VEVENT
BEGIN:VEVENT
DTSTART;TZID=America/New_York:20220208T090000
DTEND;TZID=America/New_York:20220208T163000
DTSTAMP:20260420T180442
CREATED:20211229T145914Z
LAST-MODIFIED:20211229T145914Z
UID:17321-1644310800-1644337800@nextfab.com
SUMMARY:Virtual Office Hours: Intellectual Property
DESCRIPTION:Vadim Cherkasov is an intellectual property attorney with a focus on domestic and foreign patent and trademark prosecution. Vadim worked as a mechanical engineer prior to his legal practice and has over 10 years of experience with patents in a wide range of technologies\, including medical devices\, electrical systems\, software-based systems\, power generation equipment\, and a variety of mechanical devices/systems. In addition to the preparation and prosecution of patent applications\, he has experience with patentability and freedom-to-operate (FTO) searches/opinions\, as well as licensing issues. Vadim’s clients include individual inventors\, start-ups\, and established companies\, and he guides clients in the entire process from invention disclosure discussions to commercialization. \nVadim will be available to NextFab members for free virtual consultations about intellectual property for NextFab members. Schedule an appointment here.
URL:https://nextfab.com/event/virtual-office-hours-intellectual-property-15-2022-02-08/
LOCATION:Online
CATEGORIES:Expert Advice
ATTACH;FMTTYPE=:
END:VEVENT
BEGIN:VEVENT
DTSTART;TZID=America/New_York:20220215T090000
DTEND;TZID=America/New_York:20220215T163000
DTSTAMP:20260420T180442
CREATED:20211229T145914Z
LAST-MODIFIED:20211229T145914Z
UID:17322-1644915600-1644942600@nextfab.com
SUMMARY:Virtual Office Hours: Intellectual Property
DESCRIPTION:Vadim Cherkasov is an intellectual property attorney with a focus on domestic and foreign patent and trademark prosecution. Vadim worked as a mechanical engineer prior to his legal practice and has over 10 years of experience with patents in a wide range of technologies\, including medical devices\, electrical systems\, software-based systems\, power generation equipment\, and a variety of mechanical devices/systems. In addition to the preparation and prosecution of patent applications\, he has experience with patentability and freedom-to-operate (FTO) searches/opinions\, as well as licensing issues. Vadim’s clients include individual inventors\, start-ups\, and established companies\, and he guides clients in the entire process from invention disclosure discussions to commercialization. \nVadim will be available to NextFab members for free virtual consultations about intellectual property for NextFab members. Schedule an appointment here.
URL:https://nextfab.com/event/virtual-office-hours-intellectual-property-15-2022-02-15/
LOCATION:Online
CATEGORIES:Expert Advice
ATTACH;FMTTYPE=:
END:VEVENT
BEGIN:VEVENT
DTSTART;TZID=America/New_York:20220222T090000
DTEND;TZID=America/New_York:20220222T163000
DTSTAMP:20260420T180442
CREATED:20211229T145914Z
LAST-MODIFIED:20211229T145914Z
UID:17323-1645520400-1645547400@nextfab.com
SUMMARY:Virtual Office Hours: Intellectual Property
DESCRIPTION:Vadim Cherkasov is an intellectual property attorney with a focus on domestic and foreign patent and trademark prosecution. Vadim worked as a mechanical engineer prior to his legal practice and has over 10 years of experience with patents in a wide range of technologies\, including medical devices\, electrical systems\, software-based systems\, power generation equipment\, and a variety of mechanical devices/systems. In addition to the preparation and prosecution of patent applications\, he has experience with patentability and freedom-to-operate (FTO) searches/opinions\, as well as licensing issues. Vadim’s clients include individual inventors\, start-ups\, and established companies\, and he guides clients in the entire process from invention disclosure discussions to commercialization. \nVadim will be available to NextFab members for free virtual consultations about intellectual property for NextFab members. Schedule an appointment here.
URL:https://nextfab.com/event/virtual-office-hours-intellectual-property-15-2022-02-22/
LOCATION:Online
CATEGORIES:Expert Advice
ATTACH;FMTTYPE=:
END:VEVENT
BEGIN:VEVENT
DTSTART;TZID=America/New_York:20220223T090000
DTEND;TZID=America/New_York:20220223T170000
DTSTAMP:20260420T180442
CREATED:20220210T161543Z
LAST-MODIFIED:20220210T161543Z
UID:17611-1645606800-1645635600@nextfab.com
SUMMARY:Virtual Office Hours: Intellectual Property
DESCRIPTION:Vadim Cherkasov is an intellectual property attorney with a focus on domestic and foreign patent and trademark prosecution. Vadim worked as a mechanical engineer prior to his legal practice and has over 10 years of experience with patents in a wide range of technologies\, including medical devices\, electrical systems\, software-based systems\, power generation equipment\, and a variety of mechanical devices/systems. In addition to the preparation and prosecution of patent applications\, he has experience with patentability and freedom-to-operate (FTO) searches/opinions\, as well as licensing issues. Vadim’s clients include individual inventors\, start-ups\, and established companies\, and he guides clients in the entire process from invention disclosure discussions to commercialization. \nVadim will be available to NextFab members for free virtual consultations about intellectual property for NextFab members. Schedule an appointment here.
URL:https://nextfab.com/event/virtual-office-hours-intellectual-property-16/
LOCATION:Online
CATEGORIES:Expert Advice,Virtual Event
END:VEVENT
END:VCALENDAR