BEGIN:VCALENDAR
VERSION:2.0
PRODID:-//NextFab - ECPv6.15.12.2//NONSGML v1.0//EN
CALSCALE:GREGORIAN
METHOD:PUBLISH
X-WR-CALNAME:NextFab
X-ORIGINAL-URL:https://nextfab.com
X-WR-CALDESC:Events for NextFab
REFRESH-INTERVAL;VALUE=DURATION:PT1H
X-Robots-Tag:noindex
X-PUBLISHED-TTL:PT1H
BEGIN:VTIMEZONE
TZID:America/New_York
BEGIN:DAYLIGHT
TZOFFSETFROM:-0500
TZOFFSETTO:-0400
TZNAME:EDT
DTSTART:20210314T070000
END:DAYLIGHT
BEGIN:STANDARD
TZOFFSETFROM:-0400
TZOFFSETTO:-0500
TZNAME:EST
DTSTART:20211107T060000
END:STANDARD
BEGIN:DAYLIGHT
TZOFFSETFROM:-0500
TZOFFSETTO:-0400
TZNAME:EDT
DTSTART:20220313T070000
END:DAYLIGHT
BEGIN:STANDARD
TZOFFSETFROM:-0400
TZOFFSETTO:-0500
TZNAME:EST
DTSTART:20221106T060000
END:STANDARD
BEGIN:DAYLIGHT
TZOFFSETFROM:-0500
TZOFFSETTO:-0400
TZNAME:EDT
DTSTART:20230312T070000
END:DAYLIGHT
BEGIN:STANDARD
TZOFFSETFROM:-0400
TZOFFSETTO:-0500
TZNAME:EST
DTSTART:20231105T060000
END:STANDARD
END:VTIMEZONE
BEGIN:VEVENT
DTSTART;TZID=America/New_York:20220404T100000
DTEND;TZID=America/New_York:20220404T180000
DTSTAMP:20260420T215704
CREATED:20220329T131451Z
LAST-MODIFIED:20220329T131451Z
UID:17847-1649066400-1649095200@nextfab.com
SUMMARY:Patent Advice from Scott Keeley at South Philly: April
DESCRIPTION:Scott Keeley is a registered patent agent with 12 years of experience in intellectual property. He has engineered products from guitars to wind turbines\, with “green” energy powering much of his innovative output. His early career of 18 years centered on industrial design in the United States and Europe. He taught industrial design at Kansas City Art Institute and has a Master’s in Industrial Design. \nScott will be available in our South Philly co-working area on Monday\, April 4th from 10:00 am-6:00 pm for free consultations for NextFab members about patents.
URL:https://nextfab.com/event/patent-advice-from-scott-keeley-at-south-philly-7/
CATEGORIES:Expert Advice
ATTACH;FMTTYPE=image/jpeg:https://nextfab.com/wp-content/uploads/2017/02/Daimler_Reitwagen_color_drawing_1885_DE_patent_36423.jpg
END:VEVENT
BEGIN:VEVENT
DTSTART;TZID=America/New_York:20220408T090000
DTEND;TZID=America/New_York:20220408T170000
DTSTAMP:20260420T215704
CREATED:20220210T161543Z
LAST-MODIFIED:20220210T161543Z
UID:24084-1649408400-1649437200@nextfab.com
SUMMARY:Virtual Office Hours: Intellectual Property
DESCRIPTION:Vadim Cherkasov is an intellectual property attorney with a focus on domestic and foreign patent and trademark prosecution. Vadim worked as a mechanical engineer prior to his legal practice and has over 10 years of experience with patents in a wide range of technologies\, including medical devices\, electrical systems\, software-based systems\, power generation equipment\, and a variety of mechanical devices/systems. In addition to the preparation and prosecution of patent applications\, he has experience with patentability and freedom-to-operate (FTO) searches/opinions\, as well as licensing issues. Vadim’s clients include individual inventors\, start-ups\, and established companies\, and he guides clients in the entire process from invention disclosure discussions to commercialization. \nVadim will be available to NextFab members for free virtual consultations about intellectual property for NextFab members. Schedule an appointment here.
URL:https://nextfab.com/event/virtual-office-hours-intellectual-property-16-2022-04-08/
LOCATION:Online
CATEGORIES:Expert Advice,Virtual Event
END:VEVENT
BEGIN:VEVENT
DTSTART;TZID=America/New_York:20220413T090000
DTEND;TZID=America/New_York:20220413T170000
DTSTAMP:20260420T215704
CREATED:20220210T161543Z
LAST-MODIFIED:20220210T161543Z
UID:24085-1649840400-1649869200@nextfab.com
SUMMARY:Virtual Office Hours: Intellectual Property
DESCRIPTION:Vadim Cherkasov is an intellectual property attorney with a focus on domestic and foreign patent and trademark prosecution. Vadim worked as a mechanical engineer prior to his legal practice and has over 10 years of experience with patents in a wide range of technologies\, including medical devices\, electrical systems\, software-based systems\, power generation equipment\, and a variety of mechanical devices/systems. In addition to the preparation and prosecution of patent applications\, he has experience with patentability and freedom-to-operate (FTO) searches/opinions\, as well as licensing issues. Vadim’s clients include individual inventors\, start-ups\, and established companies\, and he guides clients in the entire process from invention disclosure discussions to commercialization. \nVadim will be available to NextFab members for free virtual consultations about intellectual property for NextFab members. Schedule an appointment here.
URL:https://nextfab.com/event/virtual-office-hours-intellectual-property-16-2022-04-13/
LOCATION:Online
CATEGORIES:Expert Advice,Virtual Event
END:VEVENT
BEGIN:VEVENT
DTSTART;TZID=America/New_York:20220420T090000
DTEND;TZID=America/New_York:20220420T170000
DTSTAMP:20260420T215704
CREATED:20220210T161543Z
LAST-MODIFIED:20220210T161543Z
UID:24086-1650445200-1650474000@nextfab.com
SUMMARY:Virtual Office Hours: Intellectual Property
DESCRIPTION:Vadim Cherkasov is an intellectual property attorney with a focus on domestic and foreign patent and trademark prosecution. Vadim worked as a mechanical engineer prior to his legal practice and has over 10 years of experience with patents in a wide range of technologies\, including medical devices\, electrical systems\, software-based systems\, power generation equipment\, and a variety of mechanical devices/systems. In addition to the preparation and prosecution of patent applications\, he has experience with patentability and freedom-to-operate (FTO) searches/opinions\, as well as licensing issues. Vadim’s clients include individual inventors\, start-ups\, and established companies\, and he guides clients in the entire process from invention disclosure discussions to commercialization. \nVadim will be available to NextFab members for free virtual consultations about intellectual property for NextFab members. Schedule an appointment here.
URL:https://nextfab.com/event/virtual-office-hours-intellectual-property-16-2022-04-20/
LOCATION:Online
CATEGORIES:Expert Advice,Virtual Event
END:VEVENT
BEGIN:VEVENT
DTSTART;TZID=America/New_York:20220429T090000
DTEND;TZID=America/New_York:20220429T170000
DTSTAMP:20260420T215704
CREATED:20220210T161543Z
LAST-MODIFIED:20220210T161543Z
UID:24087-1651222800-1651251600@nextfab.com
SUMMARY:Virtual Office Hours: Intellectual Property
DESCRIPTION:Vadim Cherkasov is an intellectual property attorney with a focus on domestic and foreign patent and trademark prosecution. Vadim worked as a mechanical engineer prior to his legal practice and has over 10 years of experience with patents in a wide range of technologies\, including medical devices\, electrical systems\, software-based systems\, power generation equipment\, and a variety of mechanical devices/systems. In addition to the preparation and prosecution of patent applications\, he has experience with patentability and freedom-to-operate (FTO) searches/opinions\, as well as licensing issues. Vadim’s clients include individual inventors\, start-ups\, and established companies\, and he guides clients in the entire process from invention disclosure discussions to commercialization. \nVadim will be available to NextFab members for free virtual consultations about intellectual property for NextFab members. Schedule an appointment here.
URL:https://nextfab.com/event/virtual-office-hours-intellectual-property-16-2022-04-29/
LOCATION:Online
CATEGORIES:Expert Advice,Virtual Event
END:VEVENT
END:VCALENDAR