BEGIN:VCALENDAR
VERSION:2.0
PRODID:-//NextFab - ECPv6.15.12.2//NONSGML v1.0//EN
CALSCALE:GREGORIAN
METHOD:PUBLISH
X-WR-CALNAME:NextFab
X-ORIGINAL-URL:https://nextfab.com
X-WR-CALDESC:Events for NextFab
REFRESH-INTERVAL;VALUE=DURATION:PT1H
X-Robots-Tag:noindex
X-PUBLISHED-TTL:PT1H
BEGIN:VTIMEZONE
TZID:America/New_York
BEGIN:DAYLIGHT
TZOFFSETFROM:-0500
TZOFFSETTO:-0400
TZNAME:EDT
DTSTART:20200308T070000
END:DAYLIGHT
BEGIN:STANDARD
TZOFFSETFROM:-0400
TZOFFSETTO:-0500
TZNAME:EST
DTSTART:20201101T060000
END:STANDARD
BEGIN:DAYLIGHT
TZOFFSETFROM:-0500
TZOFFSETTO:-0400
TZNAME:EDT
DTSTART:20210314T070000
END:DAYLIGHT
BEGIN:STANDARD
TZOFFSETFROM:-0400
TZOFFSETTO:-0500
TZNAME:EST
DTSTART:20211107T060000
END:STANDARD
BEGIN:DAYLIGHT
TZOFFSETFROM:-0500
TZOFFSETTO:-0400
TZNAME:EDT
DTSTART:20220313T070000
END:DAYLIGHT
BEGIN:STANDARD
TZOFFSETFROM:-0400
TZOFFSETTO:-0500
TZNAME:EST
DTSTART:20221106T060000
END:STANDARD
END:VTIMEZONE
BEGIN:VEVENT
DTSTART;TZID=America/New_York:20210202T140000
DTEND;TZID=America/New_York:20210202T150000
DTSTAMP:20260420T095340
CREATED:20210102T213601Z
LAST-MODIFIED:20210102T213601Z
UID:13826-1612274400-1612278000@nextfab.com
SUMMARY:Virtual Office Hours: Ask a Legal Expert
DESCRIPTION:Building a successful company requires a solid corporate and legal foundation. Implementing corporate housekeeping best practices will help ensure a company has the foundation it needs in order to scale and to attract investors and qualified employees. Come meet with Brian Slough to learn how to build a solid corporate and legal foundation to position your company for future growth\, financings or exit. \n  \nBrian advises private equity\, emerging businesses\, and other innovative high-growth companies at every stage of their business lifecycle including business plan development\, start-up structuring\, and exit strategies such as initial public offerings (IPOs) and change in control transactions. Brian also represents seed\, venture capital\, private equity\, institutional\, and strategic investors in financing\, M&A\, and portfolio company transactions. \nBrian’s practice includes nurturing entrepreneurs and early-stage clients by reviewing their business plans and helping identify appropriate financing sources. Brian also provides legal and strategic advice on choice of entity and formation issues\, equity and incentive structures\, equity and debt financing structures\, and the execution of growth strategies. Brian counsels boards of directors and senior management on corporate governance\, securities compliance\, and IP matters. Additionally\, Brian offers advice on exit strategies\, including preparing for and executing a sale transaction or IPO\, or transitioning from a private to a public company. \nIn his transactional practice Brian has represented clients in corporate structuring\, capitalization\, securities matters\, financing\, M&A matters\, and all aspects of real estate including acquisition\, development\, zoning\, management\, leasing\, and disposition of commercial\, residential\, industrial and retail properties. \n  \nSchedule an appointment for a virtual meeting here.
URL:https://nextfab.com/event/virtual-office-hours-ask-a-legal-expert-5/
CATEGORIES:Expert Advice,Virtual Event
END:VEVENT
BEGIN:VEVENT
DTSTART;TZID=America/New_York:20210203T093000
DTEND;TZID=America/New_York:20210203T130000
DTSTAMP:20260420T095340
CREATED:20210125T210554Z
LAST-MODIFIED:20210125T210554Z
UID:14053-1612344600-1612357200@nextfab.com
SUMMARY:Virtual Office Hours: Intellectual Property
DESCRIPTION:Vadim Cherkasov is an intellectual property attorney with a focus on patent and trademark prosecution. Vadim worked as a mechanical engineer prior to his legal practice\, and has experience with patents in a wide range of technologies\, including medical devices\, electrical devices\, biometric-based security systems\, power generation equipment\, agricultural devices\, computer network systems\, and software-based systems. In addition to the preparation and prosecution of patent applications\, he has experience in patentability and freedom-to-operate searches\, and providing opinions based on his findings. Vadim’s clients range from individual inventors to large corporations. \nVadim will be available to NextFab members for free virtual consultations about intellectual property for NextFab members. Schedule an appointment here.
URL:https://nextfab.com/event/virtual-office-hours-intellectual-property/
CATEGORIES:Expert Advice,Virtual Event
END:VEVENT
BEGIN:VEVENT
DTSTART;TZID=America/New_York:20210209T140000
DTEND;TZID=America/New_York:20210209T150000
DTSTAMP:20260420T095340
CREATED:20210102T214443Z
LAST-MODIFIED:20210102T214443Z
UID:13828-1612879200-1612882800@nextfab.com
SUMMARY:Virtual Office Hours: Ask a Legal Expert
DESCRIPTION:Building a successful company requires a solid corporate and legal foundation. Implementing corporate housekeeping best practices will help ensure a company has the foundation it needs in order to scale and to attract investors and qualified employees. Come meet with Brian Slough to learn how to build a solid corporate and legal foundation to position your company for future growth\, financings or exit. \n  \nBrian advises private equity\, emerging businesses\, and other innovative high-growth companies at every stage of their business lifecycle including business plan development\, start-up structuring\, and exit strategies such as initial public offerings (IPOs) and change in control transactions. Brian also represents seed\, venture capital\, private equity\, institutional\, and strategic investors in financing\, M&A\, and portfolio company transactions. \nBrian’s practice includes nurturing entrepreneurs and early-stage clients by reviewing their business plans and helping identify appropriate financing sources. Brian also provides legal and strategic advice on choice of entity and formation issues\, equity and incentive structures\, equity and debt financing structures\, and the execution of growth strategies. Brian counsels boards of directors and senior management on corporate governance\, securities compliance\, and IP matters. Additionally\, Brian offers advice on exit strategies\, including preparing for and executing a sale transaction or IPO\, or transitioning from a private to a public company. \nIn his transactional practice Brian has represented clients in corporate structuring\, capitalization\, securities matters\, financing\, M&A matters\, and all aspects of real estate including acquisition\, development\, zoning\, management\, leasing\, and disposition of commercial\, residential\, industrial and retail properties. \n  \nSchedule an appointment for a virtual meeting here.
URL:https://nextfab.com/event/virtual-office-hours-ask-a-legal-expert-6/
LOCATION:Online
CATEGORIES:Expert Advice,Virtual Event
END:VEVENT
BEGIN:VEVENT
DTSTART;TZID=America/New_York:20210212T093000
DTEND;TZID=America/New_York:20210212T130000
DTSTAMP:20260420T095340
CREATED:20210125T210648Z
LAST-MODIFIED:20210125T210648Z
UID:14055-1613122200-1613134800@nextfab.com
SUMMARY:Virtual Office Hours: Intellectual Property
DESCRIPTION:Vadim Cherkasov is an intellectual property attorney with a focus on patent and trademark prosecution. Vadim worked as a mechanical engineer prior to his legal practice\, and has experience with patents in a wide range of technologies\, including medical devices\, electrical devices\, biometric-based security systems\, power generation equipment\, agricultural devices\, computer network systems\, and software-based systems. In addition to the preparation and prosecution of patent applications\, he has experience in patentability and freedom-to-operate searches\, and providing opinions based on his findings. Vadim’s clients range from individual inventors to large corporations. \nVadim will be available to NextFab members for free virtual consultations about intellectual property for NextFab members. Schedule an appointment here.
URL:https://nextfab.com/event/virtual-office-hours-intellectual-property-2/
CATEGORIES:Expert Advice,Virtual Event
END:VEVENT
BEGIN:VEVENT
DTSTART;TZID=America/New_York:20210216T140000
DTEND;TZID=America/New_York:20210216T150000
DTSTAMP:20260420T095340
CREATED:20210102T214516Z
LAST-MODIFIED:20210102T214516Z
UID:13830-1613484000-1613487600@nextfab.com
SUMMARY:Virtual Office Hours: Ask a Legal Expert
DESCRIPTION:Building a successful company requires a solid corporate and legal foundation. Implementing corporate housekeeping best practices will help ensure a company has the foundation it needs in order to scale and to attract investors and qualified employees. Come meet with Brian Slough to learn how to build a solid corporate and legal foundation to position your company for future growth\, financings or exit. \n  \nBrian advises private equity\, emerging businesses\, and other innovative high-growth companies at every stage of their business lifecycle including business plan development\, start-up structuring\, and exit strategies such as initial public offerings (IPOs) and change in control transactions. Brian also represents seed\, venture capital\, private equity\, institutional\, and strategic investors in financing\, M&A\, and portfolio company transactions. \nBrian’s practice includes nurturing entrepreneurs and early-stage clients by reviewing their business plans and helping identify appropriate financing sources. Brian also provides legal and strategic advice on choice of entity and formation issues\, equity and incentive structures\, equity and debt financing structures\, and the execution of growth strategies. Brian counsels boards of directors and senior management on corporate governance\, securities compliance\, and IP matters. Additionally\, Brian offers advice on exit strategies\, including preparing for and executing a sale transaction or IPO\, or transitioning from a private to a public company. \nIn his transactional practice Brian has represented clients in corporate structuring\, capitalization\, securities matters\, financing\, M&A matters\, and all aspects of real estate including acquisition\, development\, zoning\, management\, leasing\, and disposition of commercial\, residential\, industrial and retail properties. \n  \nSchedule an appointment for a virtual meeting here.
URL:https://nextfab.com/event/virtual-office-hours-ask-a-legal-expert-7/
CATEGORIES:Expert Advice,Virtual Event
END:VEVENT
BEGIN:VEVENT
DTSTART;TZID=America/New_York:20210217T093000
DTEND;TZID=America/New_York:20210217T130000
DTSTAMP:20260420T095340
CREATED:20210125T210802Z
LAST-MODIFIED:20210125T210802Z
UID:14057-1613554200-1613566800@nextfab.com
SUMMARY:Virtual Office Hours: Intellectual Property
DESCRIPTION:Vadim Cherkasov is an intellectual property attorney with a focus on patent and trademark prosecution. Vadim worked as a mechanical engineer prior to his legal practice\, and has experience with patents in a wide range of technologies\, including medical devices\, electrical devices\, biometric-based security systems\, power generation equipment\, agricultural devices\, computer network systems\, and software-based systems. In addition to the preparation and prosecution of patent applications\, he has experience in patentability and freedom-to-operate searches\, and providing opinions based on his findings. Vadim’s clients range from individual inventors to large corporations. \nVadim will be available to NextFab members for free virtual consultations about intellectual property for NextFab members. Schedule an appointment here.
URL:https://nextfab.com/event/virtual-office-hours-intellectual-property-3/
CATEGORIES:Expert Advice,Virtual Event
END:VEVENT
BEGIN:VEVENT
DTSTART;TZID=America/New_York:20210222T093000
DTEND;TZID=America/New_York:20210222T130000
DTSTAMP:20260420T095340
CREATED:20210125T210847Z
LAST-MODIFIED:20210125T210847Z
UID:14059-1613986200-1613998800@nextfab.com
SUMMARY:Virtual Office Hours: Intellectual Property
DESCRIPTION:Vadim Cherkasov is an intellectual property attorney with a focus on patent and trademark prosecution. Vadim worked as a mechanical engineer prior to his legal practice\, and has experience with patents in a wide range of technologies\, including medical devices\, electrical devices\, biometric-based security systems\, power generation equipment\, agricultural devices\, computer network systems\, and software-based systems. In addition to the preparation and prosecution of patent applications\, he has experience in patentability and freedom-to-operate searches\, and providing opinions based on his findings. Vadim’s clients range from individual inventors to large corporations. \nVadim will be available to NextFab members for free virtual consultations about intellectual property for NextFab members. Schedule an appointment here.
URL:https://nextfab.com/event/virtual-office-hours-intellectual-property-4/
CATEGORIES:Expert Advice,Virtual Event
END:VEVENT
BEGIN:VEVENT
DTSTART;TZID=America/New_York:20210223T140000
DTEND;TZID=America/New_York:20210223T150000
DTSTAMP:20260420T095340
CREATED:20210102T214555Z
LAST-MODIFIED:20210102T214555Z
UID:13832-1614088800-1614092400@nextfab.com
SUMMARY:Virtual Office Hours: Ask a Legal Expert
DESCRIPTION:Building a successful company requires a solid corporate and legal foundation. Implementing corporate housekeeping best practices will help ensure a company has the foundation it needs in order to scale and to attract investors and qualified employees. Come meet with Brian Slough to learn how to build a solid corporate and legal foundation to position your company for future growth\, financings or exit. \n  \nBrian advises private equity\, emerging businesses\, and other innovative high-growth companies at every stage of their business lifecycle including business plan development\, start-up structuring\, and exit strategies such as initial public offerings (IPOs) and change in control transactions. Brian also represents seed\, venture capital\, private equity\, institutional\, and strategic investors in financing\, M&A\, and portfolio company transactions. \nBrian’s practice includes nurturing entrepreneurs and early-stage clients by reviewing their business plans and helping identify appropriate financing sources. Brian also provides legal and strategic advice on choice of entity and formation issues\, equity and incentive structures\, equity and debt financing structures\, and the execution of growth strategies. Brian counsels boards of directors and senior management on corporate governance\, securities compliance\, and IP matters. Additionally\, Brian offers advice on exit strategies\, including preparing for and executing a sale transaction or IPO\, or transitioning from a private to a public company. \nIn his transactional practice Brian has represented clients in corporate structuring\, capitalization\, securities matters\, financing\, M&A matters\, and all aspects of real estate including acquisition\, development\, zoning\, management\, leasing\, and disposition of commercial\, residential\, industrial and retail properties. \n  \nSchedule an appointment for a virtual meeting here.
URL:https://nextfab.com/event/virtual-office-hours-ask-a-legal-expert-8/
CATEGORIES:Expert Advice,Virtual Event
END:VEVENT
END:VCALENDAR