BEGIN:VCALENDAR
VERSION:2.0
PRODID:-//NextFab - ECPv6.15.12.2//NONSGML v1.0//EN
CALSCALE:GREGORIAN
METHOD:PUBLISH
X-ORIGINAL-URL:https://nextfab.com
X-WR-CALDESC:Events for NextFab
REFRESH-INTERVAL;VALUE=DURATION:PT1H
X-Robots-Tag:noindex
X-PUBLISHED-TTL:PT1H
BEGIN:VTIMEZONE
TZID:America/New_York
BEGIN:DAYLIGHT
TZOFFSETFROM:-0500
TZOFFSETTO:-0400
TZNAME:EDT
DTSTART:20200308T070000
END:DAYLIGHT
BEGIN:STANDARD
TZOFFSETFROM:-0400
TZOFFSETTO:-0500
TZNAME:EST
DTSTART:20201101T060000
END:STANDARD
BEGIN:DAYLIGHT
TZOFFSETFROM:-0500
TZOFFSETTO:-0400
TZNAME:EDT
DTSTART:20210314T070000
END:DAYLIGHT
BEGIN:STANDARD
TZOFFSETFROM:-0400
TZOFFSETTO:-0500
TZNAME:EST
DTSTART:20211107T060000
END:STANDARD
BEGIN:DAYLIGHT
TZOFFSETFROM:-0500
TZOFFSETTO:-0400
TZNAME:EDT
DTSTART:20220313T070000
END:DAYLIGHT
BEGIN:STANDARD
TZOFFSETFROM:-0400
TZOFFSETTO:-0500
TZNAME:EST
DTSTART:20221106T060000
END:STANDARD
END:VTIMEZONE
BEGIN:VEVENT
DTSTART;TZID=America/New_York:20210506T123000
DTEND;TZID=America/New_York:20210506T133000
DTSTAMP:20260420T051029
CREATED:20210416T212605Z
LAST-MODIFIED:20210416T212605Z
UID:14784-1620304200-1620307800@nextfab.com
SUMMARY:Manufacturing 101
DESCRIPTION:Manufacturing 101 is an opportunity to gain insights into working with manufacturers. The 101 presentation and discussion will demystify manufacturing by explaining design and manufacturing jargon\, sharing insights about building a supply chain\, detailing what to organize for conversations with manufacturers\, and providing resources to find regional manufacturing capabilities. \nManufacturing 101 is presented by MakeGood’s co-founders\, Andrew Dahlgren and Kevin Chen\, and hosted by NextFab Ventures’ Todor Raykov. \n\nRegister here:\nhttps://us02web.zoom.us/meeting/register/tZAufumrrD4pE9ARuPWuHSbwjo7EWky7ZOVv
URL:https://nextfab.com/event/manufacturing-101/
LOCATION:Online
CATEGORIES:Expert Advice
END:VEVENT
BEGIN:VEVENT
DTSTART;TZID=America/New_York:20210507T093000
DTEND;TZID=America/New_York:20210507T133000
DTSTAMP:20260420T051029
CREATED:20210421T145449Z
LAST-MODIFIED:20240820T121844Z
UID:14817-1620379800-1620394200@nextfab.com
SUMMARY:Virtual Office Hours: Intellectual Property
DESCRIPTION:Vadim Cherkasov is an intellectual property attorney with a focus on patent and trademark prosecution. Vadim worked as a mechanical engineer prior to his legal practice and has experience with patents in a wide range of technologies\, including medical devices\, electrical devices\, biometric-based security systems\, power generation equipment\, agricultural devices\, computer network systems\, and software-based systems. In addition to the preparation and prosecution of patent applications\, he has experience in patentability and freedom-to-operate searches and providing opinions based on his findings. Vadim’s clients range from individual inventors to large corporations. \nVadim will be available to NextFab members for free virtual consultations about intellectual property for NextFab members. Schedule an appointment here.
URL:https://nextfab.com/event/virtual-office-hours-intellectual-property-11/
LOCATION:Online
CATEGORIES:Expert Advice
ATTACH;FMTTYPE=image/png:https://nextfab.com/wp-content/uploads/2023/12/corporate-team-building-at-nextfab-hackathon2.png
END:VEVENT
BEGIN:VEVENT
DTSTART;TZID=America/New_York:20210511T123000
DTEND;TZID=America/New_York:20210511T134500
DTSTAMP:20260420T051029
CREATED:20210416T213024Z
LAST-MODIFIED:20210416T213024Z
UID:14786-1620736200-1620740700@nextfab.com
SUMMARY:PPP\, Capital Raise and Tax Strategies: Tips for Helping Businesses Thrive in 2021
DESCRIPTION:The past year has presented challenges for many entrepreneurs as they navigated COVID-19 and the best path forward for their business.\n\nKPMG Spark is excited to team with NextFab for an exciting discussion for entrepreneurs about strategies businesses should have in place to thrive in 2021. This session will explore:\n\n\n\n\n\n\n• Tax tips for businesses\n• Post PPP loans tips\n• Bookkeeping\n• Capital raise and much more\n\n\n\n\nAs a business owner you have limited time\, and want to focus your energy on growing your business not managing your bookkeeping. You also want to ensure that you have the right team in place to support your business growth.\n\n\n\n\nPlease feel free to prepare a few accounting and/or tax-related questions that you could ask the presenters during or after their presentation. After the presentation\, you can also schedule a free follow-up consultation with the KPMG Spark experts by using this link.\n\n\n\n\nPPP\, Capital Raise & Tax Strategies is presented by KPMG Spark and hosted by NextFab Ventures’ Todor Raykov.\n\n\n\nRegister here:\nhttps://us02web.zoom.us/meeting/register/tZcsfuqpqT4iHNYhCNl6j0d8P8HEinC-imyW
URL:https://nextfab.com/event/ppp-capital-raise-tax-strategies/
CATEGORIES:Expert Advice
END:VEVENT
BEGIN:VEVENT
DTSTART;TZID=America/New_York:20210517T130000
DTEND;TZID=America/New_York:20210517T160000
DTSTAMP:20260420T051029
CREATED:20210513T214836Z
LAST-MODIFIED:20210513T214836Z
UID:14966-1621256400-1621267200@nextfab.com
SUMMARY:Virtual Office Hours: Business and Marketing
DESCRIPTION:Dr. Dan Young is the Founding Director of the Doctor of Business Administration Program at Goldey-Beacom College and is the organizer of both TEDxWilmington and Start-Up Gring Wilmington. He has also been the curator of TEDxGoldeyBeacomCollege\, TEDxDover\, and TEDxHarlem. Dan received his Bachelor’s and Master’s degrees in Marketing from the University of Delaware’s Honors Program and his Ph.D. in Marketing from Temple University. Dan has experience with building businesses\, marketing\, entrepreneurship\, and more. His experience ranges from creating and running his own businesses to crafting the business strategy for larger companies. \nDan will be available to NextFab members for free virtual consultations about business and marketing for NextFab members. Schedule an appointment here. \n 
URL:https://nextfab.com/event/virtual-office-hours-business-and-marketing/
LOCATION:Online
CATEGORIES:Expert Advice
ATTACH;FMTTYPE=image/jpeg:https://nextfab.com/wp-content/uploads/2021/05/Version-1-min-scaled.jpg
END:VEVENT
BEGIN:VEVENT
DTSTART;TZID=America/New_York:20210517T140000
DTEND;TZID=America/New_York:20210517T160000
DTSTAMP:20260420T051029
CREATED:20210513T215957Z
LAST-MODIFIED:20210513T215957Z
UID:15067-1621260000-1621267200@nextfab.com
SUMMARY:Virtual Office Hours: Digital Marketing and Social Media
DESCRIPTION:Samantha Gonzalez is the owner of Bad Town\, and the newly launched BESO Digital. She has been in the digital marketing space for 9 years now\, specializing in social media marketing and business intelligence analytics. Her passion lies in the arts\, and her businesses are the result of applying her skill set to an industry she loves. \nBESO Digital (an extension of Bad Town) is a digital marketing agency for creatives. They specialize in growing brands online for professionals in creative industries. If you need help getting started selling online\, or feel like it’s time to scale up\, they can help. BESO’s core services are branding\, websites\, social media content and strategy\, and paid social and SEM. They’re designed to guide you through every phase of the business cycle and keep you moving forward. Learn more about their team of powerful women at beso-digital.com. \n\nSam will be available to NextFab members for free virtual consultations about social media and digital marketing for NextFab members. Schedule an appointment here. \n 
URL:https://nextfab.com/event/virtual-office-hours-digital-marketing-and-social-media/
LOCATION:Online
CATEGORIES:Expert Advice
ATTACH;FMTTYPE=image/jpeg:https://nextfab.com/wp-content/uploads/2021/05/unnamed-29-min-1-scaled.jpg
END:VEVENT
BEGIN:VEVENT
DTSTART;TZID=America/New_York:20210518T123000
DTEND;TZID=America/New_York:20210518T140000
DTSTAMP:20260420T051029
CREATED:20210416T214426Z
LAST-MODIFIED:20210416T214426Z
UID:14791-1621341000-1621346400@nextfab.com
SUMMARY:Designing a Successful Fulfillment Program and E-Commerce Operations
DESCRIPTION:The digital age has created tremendous opportunities in reaching potential customers and driving product sales. However\, it has also created new and unique challenges for both seasoned businesspeople and entrepreneurs. As client bases have become more diverse and expansive\, they have also become more demanding. This session will seek to explore the nuances of designing and implementing a top-notch fulfillment program for your business with key attention paid to the nuances of managing a successful E-commerce Platform.\n\nDesigning a Successful Fulfillment Program and E-Commerce Operations is presented by Stephen Gould Corporation’s Stephen Sinnott\, Ryan Ridinger\, and Brian Norcross\, and hosted by NextFab Ventures’ Todor Raykov.\n\nRegister here:\nhttps://us02web.zoom.us/meeting/register/tZUqfu6grTgpGNKoiDN7HMlhgyhaLKzwlfER
URL:https://nextfab.com/event/designing-a-successful-fulfillment-program-and-e-commerce-operations/
LOCATION:Online
CATEGORIES:Expert Advice
END:VEVENT
BEGIN:VEVENT
DTSTART;TZID=America/New_York:20210518T130000
DTEND;TZID=America/New_York:20210518T160000
DTSTAMP:20260420T051029
CREATED:20210513T215506Z
LAST-MODIFIED:20210513T215506Z
UID:15033-1621342800-1621353600@nextfab.com
SUMMARY:Virtual Office Hours: Business and Marketing
DESCRIPTION:Dr. Dan Young is the Founding Director of the Doctor of Business Administration Program at Goldey-Beacom College and is the organizer of both TEDxWilmington and Start-Up Gring Wilmington. He has also been the curator of TEDxGoldeyBeacomCollege\, TEDxDover\, and TEDxHarlem. Dan received his Bachelor’s and Master’s degrees in Marketing from the University of Delaware’s Honors Program and his Ph.D. in Marketing from Temple University. Dan has experience with building businesses\, marketing\, entrepreneurship\, and more. His experience ranges from creating and running his own businesses to crafting the business strategy for larger companies. \n  \nDan will be available for free virtual consultations about business and marketing for NextFab members. Schedule an appointment here.
URL:https://nextfab.com/event/virtual-office-hours-business-and-marketing-2/
LOCATION:Online
CATEGORIES:Expert Advice
ATTACH;FMTTYPE=image/jpeg:https://nextfab.com/wp-content/uploads/2021/05/Version-1-min-scaled.jpg
END:VEVENT
BEGIN:VEVENT
DTSTART;TZID=America/New_York:20210518T140000
DTEND;TZID=America/New_York:20210518T160000
DTSTAMP:20260420T051029
CREATED:20210513T220622Z
LAST-MODIFIED:20210513T220622Z
UID:15134-1621346400-1621353600@nextfab.com
SUMMARY:Virtual Office Hours: Digital Marketing and Social Media
DESCRIPTION:Samantha Gonzalez is the owner of Bad Town\, and the newly launched BESO Digital. She has been in the digital marketing space for 9 years now\, specializing in social media marketing and business intelligence analytics. Her passion lies in the arts\, and her businesses are the result of applying her skill set to an industry she loves. \nBESO Digital (an extension of Bad Town) is a digital marketing agency for creatives. They specialize in growing brands online for professionals in creative industries. If you need help getting started selling online\, or feel like it’s time to scale up\, they can help. BESO’s core services are branding\, websites\, social media content and strategy\, and paid social and SEM. They’re designed to guide you through every phase of the business cycle and keep you moving forward. Learn more about their team of powerful women at beso-digital.com. \n\nSam will be available to NextFab members for free virtual consultations about social media and digital marketing for NextFab members. Schedule an appointment here.
URL:https://nextfab.com/event/virtual-office-hours-digital-marketing-and-social-media-2/
LOCATION:Online
CATEGORIES:Expert Advice
ATTACH;FMTTYPE=image/jpeg:https://nextfab.com/wp-content/uploads/2021/05/unnamed-29-min-1-scaled.jpg
END:VEVENT
BEGIN:VEVENT
DTSTART;TZID=America/New_York:20210520T123000
DTEND;TZID=America/New_York:20210520T140000
DTSTAMP:20260420T051029
CREATED:20210416T213250Z
LAST-MODIFIED:20210416T213250Z
UID:14789-1621513800-1621519200@nextfab.com
SUMMARY:Intro to Design for Manufacturing
DESCRIPTION:The introduction to Design for Manufacturing (DFM) is for product developers looking for insights into the process of translating initial design ideas and prototypes into manufacturable products. The content of this presentation will introduce fundamental principles of DFM by explaining common terms and product architecture; introducing important concepts such as tolerance\, cycle time\, batch size; sharing insights on how to simplify design\, communicating with manufacturers\, and resources for getting started and for finding regional manufacturing and engineering capabilities. \nIntro to Design for Manufacturing is presented by MakeGood’s co-founders\, Andrew Dahlgren and Kevin Chen\, and hosted by NextFab Ventures’ Todor Raykov. \n\nRegister here:\nhttps://us02web.zoom.us/meeting/register/tZ0kceGvpj0tEtAQtYpcfY4Wp0gdhLvHCMm6
URL:https://nextfab.com/event/intro-to-design-for-manufacturing/
LOCATION:Online
CATEGORIES:Expert Advice
END:VEVENT
BEGIN:VEVENT
DTSTART;TZID=America/New_York:20210521T093000
DTEND;TZID=America/New_York:20210521T133000
DTSTAMP:20260420T051029
CREATED:20210421T145655Z
LAST-MODIFIED:20210421T145655Z
UID:14823-1621589400-1621603800@nextfab.com
SUMMARY:Virtual Office Hours: Intellectual Property
DESCRIPTION:Vadim Cherkasov is an intellectual property attorney with a focus on patent and trademark prosecution. Vadim worked as a mechanical engineer prior to his legal practice\, and has experience with patents in a wide range of technologies\, including medical devices\, electrical devices\, biometric-based security systems\, power generation equipment\, agricultural devices\, computer network systems\, and software-based systems. In addition to the preparation and prosecution of patent applications\, he has experience in patentability and freedom-to-operate searches\, and providing opinions based on his findings. Vadim’s clients range from individual inventors to large corporations. \nVadim will be available to NextFab members for free virtual consultations about intellectual property for NextFab members. Schedule an appointment here.
URL:https://nextfab.com/event/virtual-office-hours-intellectual-property-12/
LOCATION:Online
CATEGORIES:Expert Advice
END:VEVENT
BEGIN:VEVENT
DTSTART;TZID=America/New_York:20210524T140000
DTEND;TZID=America/New_York:20210524T160000
DTSTAMP:20260420T051029
CREATED:20210513T215957Z
LAST-MODIFIED:20210513T215957Z
UID:15069-1621864800-1621872000@nextfab.com
SUMMARY:Virtual Office Hours: Digital Marketing and Social Media
DESCRIPTION:Samantha Gonzalez is the owner of Bad Town\, and the newly launched BESO Digital. She has been in the digital marketing space for 9 years now\, specializing in social media marketing and business intelligence analytics. Her passion lies in the arts\, and her businesses are the result of applying her skill set to an industry she loves. \nBESO Digital (an extension of Bad Town) is a digital marketing agency for creatives. They specialize in growing brands online for professionals in creative industries. If you need help getting started selling online\, or feel like it’s time to scale up\, they can help. BESO’s core services are branding\, websites\, social media content and strategy\, and paid social and SEM. They’re designed to guide you through every phase of the business cycle and keep you moving forward. Learn more about their team of powerful women at beso-digital.com. \n\nSam will be available to NextFab members for free virtual consultations about social media and digital marketing for NextFab members. Schedule an appointment here. \n 
URL:https://nextfab.com/event/virtual-office-hours-digital-marketing-and-social-media-2021-05-24/
LOCATION:Online
CATEGORIES:Expert Advice
ATTACH;FMTTYPE=image/jpeg:https://nextfab.com/wp-content/uploads/2021/05/unnamed-29-min-1-scaled.jpg
END:VEVENT
BEGIN:VEVENT
DTSTART;TZID=America/New_York:20210525T130000
DTEND;TZID=America/New_York:20210525T160000
DTSTAMP:20260420T051029
CREATED:20210513T215506Z
LAST-MODIFIED:20210513T215506Z
UID:15035-1621947600-1621958400@nextfab.com
SUMMARY:Virtual Office Hours: Business and Marketing
DESCRIPTION:Dr. Dan Young is the Founding Director of the Doctor of Business Administration Program at Goldey-Beacom College and is the organizer of both TEDxWilmington and Start-Up Gring Wilmington. He has also been the curator of TEDxGoldeyBeacomCollege\, TEDxDover\, and TEDxHarlem. Dan received his Bachelor’s and Master’s degrees in Marketing from the University of Delaware’s Honors Program and his Ph.D. in Marketing from Temple University. Dan has experience with building businesses\, marketing\, entrepreneurship\, and more. His experience ranges from creating and running his own businesses to crafting the business strategy for larger companies. \n  \nDan will be available for free virtual consultations about business and marketing for NextFab members. Schedule an appointment here.
URL:https://nextfab.com/event/virtual-office-hours-business-and-marketing-2-2021-05-25/
LOCATION:Online
CATEGORIES:Expert Advice
ATTACH;FMTTYPE=image/jpeg:https://nextfab.com/wp-content/uploads/2021/05/Version-1-min-scaled.jpg
END:VEVENT
BEGIN:VEVENT
DTSTART;TZID=America/New_York:20210525T140000
DTEND;TZID=America/New_York:20210525T160000
DTSTAMP:20260420T051029
CREATED:20210513T215957Z
LAST-MODIFIED:20210513T215957Z
UID:15581-1621951200-1621958400@nextfab.com
SUMMARY:Virtual Office Hours: Digital Marketing and Social Media
DESCRIPTION:Samantha Gonzalez is the owner of Bad Town\, and the newly launched BESO Digital. She has been in the digital marketing space for 9 years now\, specializing in social media marketing and business intelligence analytics. Her passion lies in the arts\, and her businesses are the result of applying her skill set to an industry she loves. \nBESO Digital (an extension of Bad Town) is a digital marketing agency for creatives. They specialize in growing brands online for professionals in creative industries. If you need help getting started selling online\, or feel like it’s time to scale up\, they can help. BESO’s core services are branding\, websites\, social media content and strategy\, and paid social and SEM. They’re designed to guide you through every phase of the business cycle and keep you moving forward. Learn more about their team of powerful women at beso-digital.com. \n\nSam will be available to NextFab members for free virtual consultations about social media and digital marketing for NextFab members. Schedule an appointment here. \n 
URL:https://nextfab.com/event/virtual-office-hours-digital-marketing-and-social-media-2021-05-25/
LOCATION:Online
CATEGORIES:Expert Advice
ATTACH;FMTTYPE=image/jpeg:https://nextfab.com/wp-content/uploads/2021/05/unnamed-29-min-1-scaled.jpg
END:VEVENT
BEGIN:VEVENT
DTSTART;TZID=America/New_York:20210525T140000
DTEND;TZID=America/New_York:20210525T160000
DTSTAMP:20260420T051029
CREATED:20210513T220622Z
LAST-MODIFIED:20210513T220622Z
UID:15184-1621951200-1621958400@nextfab.com
SUMMARY:Virtual Office Hours: Digital Marketing and Social Media
DESCRIPTION:Samantha Gonzalez is the owner of Bad Town\, and the newly launched BESO Digital. She has been in the digital marketing space for 9 years now\, specializing in social media marketing and business intelligence analytics. Her passion lies in the arts\, and her businesses are the result of applying her skill set to an industry she loves. \nBESO Digital (an extension of Bad Town) is a digital marketing agency for creatives. They specialize in growing brands online for professionals in creative industries. If you need help getting started selling online\, or feel like it’s time to scale up\, they can help. BESO’s core services are branding\, websites\, social media content and strategy\, and paid social and SEM. They’re designed to guide you through every phase of the business cycle and keep you moving forward. Learn more about their team of powerful women at beso-digital.com. \n\nSam will be available to NextFab members for free virtual consultations about social media and digital marketing for NextFab members. Schedule an appointment here.
URL:https://nextfab.com/event/virtual-office-hours-digital-marketing-and-social-media-2-2021-05-25/
LOCATION:Online
CATEGORIES:Expert Advice
ATTACH;FMTTYPE=image/jpeg:https://nextfab.com/wp-content/uploads/2021/05/unnamed-29-min-1-scaled.jpg
END:VEVENT
BEGIN:VEVENT
DTSTART;TZID=America/New_York:20210527T130000
DTEND;TZID=America/New_York:20210527T160000
DTSTAMP:20260420T051029
CREATED:20210513T214836Z
LAST-MODIFIED:20210513T214836Z
UID:14970-1622120400-1622131200@nextfab.com
SUMMARY:Virtual Office Hours: Business and Marketing
DESCRIPTION:Dr. Dan Young is the Founding Director of the Doctor of Business Administration Program at Goldey-Beacom College and is the organizer of both TEDxWilmington and Start-Up Gring Wilmington. He has also been the curator of TEDxGoldeyBeacomCollege\, TEDxDover\, and TEDxHarlem. Dan received his Bachelor’s and Master’s degrees in Marketing from the University of Delaware’s Honors Program and his Ph.D. in Marketing from Temple University. Dan has experience with building businesses\, marketing\, entrepreneurship\, and more. His experience ranges from creating and running his own businesses to crafting the business strategy for larger companies. \nDan will be available to NextFab members for free virtual consultations about business and marketing for NextFab members. Schedule an appointment here. \n 
URL:https://nextfab.com/event/virtual-office-hours-business-and-marketing-2021-05-27/
LOCATION:Online
CATEGORIES:Expert Advice
ATTACH;FMTTYPE=image/jpeg:https://nextfab.com/wp-content/uploads/2021/05/Version-1-min-scaled.jpg
END:VEVENT
BEGIN:VEVENT
DTSTART;TZID=America/New_York:20210531T140000
DTEND;TZID=America/New_York:20210531T160000
DTSTAMP:20260420T051029
CREATED:20210513T215957Z
LAST-MODIFIED:20210513T215957Z
UID:15070-1622469600-1622476800@nextfab.com
SUMMARY:Virtual Office Hours: Digital Marketing and Social Media
DESCRIPTION:Samantha Gonzalez is the owner of Bad Town\, and the newly launched BESO Digital. She has been in the digital marketing space for 9 years now\, specializing in social media marketing and business intelligence analytics. Her passion lies in the arts\, and her businesses are the result of applying her skill set to an industry she loves. \nBESO Digital (an extension of Bad Town) is a digital marketing agency for creatives. They specialize in growing brands online for professionals in creative industries. If you need help getting started selling online\, or feel like it’s time to scale up\, they can help. BESO’s core services are branding\, websites\, social media content and strategy\, and paid social and SEM. They’re designed to guide you through every phase of the business cycle and keep you moving forward. Learn more about their team of powerful women at beso-digital.com. \n\nSam will be available to NextFab members for free virtual consultations about social media and digital marketing for NextFab members. Schedule an appointment here. \n 
URL:https://nextfab.com/event/virtual-office-hours-digital-marketing-and-social-media-2021-05-31/
LOCATION:Online
CATEGORIES:Expert Advice
ATTACH;FMTTYPE=image/jpeg:https://nextfab.com/wp-content/uploads/2021/05/unnamed-29-min-1-scaled.jpg
END:VEVENT
END:VCALENDAR